BEGIN:VCALENDAR
VERSION:2.0
PRODID:-//Jugendarbeit Bamberg - ECPv6.15.17//NONSGML v1.0//EN
CALSCALE:GREGORIAN
METHOD:PUBLISH
X-WR-CALNAME:Jugendarbeit Bamberg
X-ORIGINAL-URL:https://jugendarbeit-bamberg.de
X-WR-CALDESC:Veranstaltungen für Jugendarbeit Bamberg
REFRESH-INTERVAL;VALUE=DURATION:PT1H
X-Robots-Tag:noindex
X-PUBLISHED-TTL:PT1H
BEGIN:VTIMEZONE
TZID:Europe/Berlin
BEGIN:DAYLIGHT
TZOFFSETFROM:+0100
TZOFFSETTO:+0200
TZNAME:CEST
DTSTART:20250330T010000
END:DAYLIGHT
BEGIN:STANDARD
TZOFFSETFROM:+0200
TZOFFSETTO:+0100
TZNAME:CET
DTSTART:20251026T010000
END:STANDARD
BEGIN:DAYLIGHT
TZOFFSETFROM:+0100
TZOFFSETTO:+0200
TZNAME:CEST
DTSTART:20260329T010000
END:DAYLIGHT
BEGIN:STANDARD
TZOFFSETFROM:+0200
TZOFFSETTO:+0100
TZNAME:CET
DTSTART:20261025T010000
END:STANDARD
BEGIN:DAYLIGHT
TZOFFSETFROM:+0100
TZOFFSETTO:+0200
TZNAME:CEST
DTSTART:20270328T010000
END:DAYLIGHT
BEGIN:STANDARD
TZOFFSETFROM:+0200
TZOFFSETTO:+0100
TZNAME:CET
DTSTART:20271031T010000
END:STANDARD
END:VTIMEZONE
BEGIN:VEVENT
DTSTART;TZID=Europe/Berlin:20260423T080000
DTEND;TZID=Europe/Berlin:20260423T170000
DTSTAMP:20260423T015139
CREATED:20260205T143517Z
LAST-MODIFIED:20260225T121448Z
UID:10006902-1776931200-1776963600@jugendarbeit-bamberg.de
SUMMARY:Mic Check! Songwriting Camp Bamberg
DESCRIPTION:🌟 Ab dem 26.02.2026 startet unser neues Projekt: Mic Check! mit @machmamusik 🌟 \n⚡ Hier könnt ihr eigene Songs schreiben\, aufnehmen und performen! 🎙️🎸 \n✨ Kommt also ab dem 26.02. jeden Donnerstag von 15:00 – 16:00 in die BasKIDhall und entdeckt eure musikalische Seite. 🎶
URL:https://jugendarbeit-bamberg.de/termine/mic-check-songwriting-camp-bamberg/2026-04-23/
LOCATION:BasKIDhall\, Kornstraße 20\, Bamberg\, 96050
CATEGORIES:Begegnung,ja:ba ist bunt,Workshop
ATTACH;FMTTYPE=image/png:https://jugendarbeit-bamberg.de/wp-content/uploads/2026/02/Flyer_Musikprojekt.png
END:VEVENT
BEGIN:VEVENT
DTSTART;TZID=Europe/Berlin:20260423T160000
DTEND;TZID=Europe/Berlin:20260423T190000
DTSTAMP:20260423T015139
CREATED:20251113T113400Z
LAST-MODIFIED:20260226T113508Z
UID:10004610-1776960000-1776970800@jugendarbeit-bamberg.de
SUMMARY:Töpfern
DESCRIPTION:Jeden Donnerstag könnt ihr in der Kreativwerkstatt mit unserer Johanna Töpfern ausprobieren. \nAlles auf Spendenbasis. Einfach zwischen 16 und 19 Uhr vorbeischauen. \nBitte beachte\, dass sich unsere Workshops vorrangig an unsere Zielgruppe (ca 12 bis 27-jährige) richten.
URL:https://jugendarbeit-bamberg.de/termine/keramik-naehen-fotolabor-2/2026-04-23/
LOCATION:BENZE\, Coburger Str. 45B\, Bamberg\, 96052
CATEGORIES:Begegnung,Kunst,Workshop
ATTACH;FMTTYPE=image/png:https://jugendarbeit-bamberg.de/wp-content/uploads/2025/11/11.png
ORGANIZER;CN="BENZE":MAILTO:juz.bamberg@iso-ev.de
END:VEVENT
BEGIN:VEVENT
DTSTART;TZID=Europe/Berlin:20260423T163000
DTEND;TZID=Europe/Berlin:20260423T183000
DTSTAMP:20260423T015139
CREATED:20260328T164319Z
LAST-MODIFIED:20260331T085250Z
UID:10007044-1776961800-1776969000@jugendarbeit-bamberg.de
SUMMARY:Mic Check!
DESCRIPTION:✨Ab dem 23.04. startet unser neues Projekt: Mic Check! mit Sebastian Schönmoser. \n⚡️Hier könnt ihr eigene Songs schreiben\, aufnehmen und performen! 🎙️🎸 \n⭐️ Kommt also ab dem 23.04 vorbei und entdeckt eure musikalische Seite! Immer von 16:30 – 18:30 Uhr in der BENZE \nWir treffen uns an folgenden Terminen:\n– 23.04.2026\n– 30.04.2026\n– 07.05.2026\n– 21.05.2026\n– 28.05.2026\n– 18.06.2026\n– 25.06.2026\n– 02.07.2026 \nWir freuen uns auf euch !
URL:https://jugendarbeit-bamberg.de/termine/mic-check/2026-04-23/
LOCATION:BENZE\, Coburger Str. 45B\, Bamberg\, 96052
CATEGORIES:Begegnung,Beteiligung
ATTACH;FMTTYPE=image/png:https://jugendarbeit-bamberg.de/wp-content/uploads/2026/03/Mic-Check-Workshop-.png
END:VEVENT
END:VCALENDAR