BEGIN:VCALENDAR
VERSION:2.0
PRODID:-//Jugendarbeit Bamberg - ECPv6.15.17//NONSGML v1.0//EN
CALSCALE:GREGORIAN
METHOD:PUBLISH
X-WR-CALNAME:Jugendarbeit Bamberg
X-ORIGINAL-URL:https://jugendarbeit-bamberg.de
X-WR-CALDESC:Veranstaltungen für Jugendarbeit Bamberg
REFRESH-INTERVAL;VALUE=DURATION:PT1H
X-Robots-Tag:noindex
X-PUBLISHED-TTL:PT1H
BEGIN:VTIMEZONE
TZID:Europe/Berlin
BEGIN:DAYLIGHT
TZOFFSETFROM:+0100
TZOFFSETTO:+0200
TZNAME:CEST
DTSTART:20250330T010000
END:DAYLIGHT
BEGIN:STANDARD
TZOFFSETFROM:+0200
TZOFFSETTO:+0100
TZNAME:CET
DTSTART:20251026T010000
END:STANDARD
BEGIN:DAYLIGHT
TZOFFSETFROM:+0100
TZOFFSETTO:+0200
TZNAME:CEST
DTSTART:20260329T010000
END:DAYLIGHT
BEGIN:STANDARD
TZOFFSETFROM:+0200
TZOFFSETTO:+0100
TZNAME:CET
DTSTART:20261025T010000
END:STANDARD
BEGIN:DAYLIGHT
TZOFFSETFROM:+0100
TZOFFSETTO:+0200
TZNAME:CEST
DTSTART:20270328T010000
END:DAYLIGHT
BEGIN:STANDARD
TZOFFSETFROM:+0200
TZOFFSETTO:+0100
TZNAME:CET
DTSTART:20271031T010000
END:STANDARD
END:VTIMEZONE
BEGIN:VEVENT
DTSTART;TZID=Europe/Berlin:20260425T160000
DTEND;TZID=Europe/Berlin:20260426T000000
DTSTAMP:20260425T015432
CREATED:20260410T132510Z
LAST-MODIFIED:20260415T093754Z
UID:10007077-1777132800-1777161600@jugendarbeit-bamberg.de
SUMMARY:Soli-Party
DESCRIPTION:Am Samstag den 25.04. findet in der BENZE die Soli-Party von Widersetzen Bamberg statt. \nFreut euch auf: Kleidertausch\, Kaffee & Kuchen\, Film\, Siebdruck\, Essen für alle\, Ausstellung\, DJ & Live-Musik! \nKommt vorbei – für alte Hasen und neue Mäuse! Wir freuen uns auf euch. \nVon 16-00 Uhr. \n 
URL:https://jugendarbeit-bamberg.de/termine/soli-party/
LOCATION:BENZE\, Coburger Str. 45B\, Bamberg\, 96052
CATEGORIES:Begegnung,Beteiligung,ja:ba ist bunt,Konzert,Konzerte,Kunst,Party
ATTACH;FMTTYPE=image/jpeg:https://jugendarbeit-bamberg.de/wp-content/uploads/2026/04/soli-party.jpg
ORGANIZER;CN="Widersetzen Bamberg":MAILTO:widersetzen-bamberg@systemli.org
END:VEVENT
END:VCALENDAR