BEGIN:VCALENDAR
VERSION:2.0
PRODID:-//Jugendarbeit Bamberg - ECPv6.15.17//NONSGML v1.0//EN
CALSCALE:GREGORIAN
METHOD:PUBLISH
X-WR-CALNAME:Jugendarbeit Bamberg
X-ORIGINAL-URL:https://jugendarbeit-bamberg.de
X-WR-CALDESC:Veranstaltungen für Jugendarbeit Bamberg
REFRESH-INTERVAL;VALUE=DURATION:PT1H
X-Robots-Tag:noindex
X-PUBLISHED-TTL:PT1H
BEGIN:VTIMEZONE
TZID:Europe/Berlin
BEGIN:DAYLIGHT
TZOFFSETFROM:+0100
TZOFFSETTO:+0200
TZNAME:CEST
DTSTART:20260329T010000
END:DAYLIGHT
BEGIN:STANDARD
TZOFFSETFROM:+0200
TZOFFSETTO:+0100
TZNAME:CET
DTSTART:20261025T010000
END:STANDARD
BEGIN:DAYLIGHT
TZOFFSETFROM:+0100
TZOFFSETTO:+0200
TZNAME:CEST
DTSTART:20270328T010000
END:DAYLIGHT
BEGIN:STANDARD
TZOFFSETFROM:+0200
TZOFFSETTO:+0100
TZNAME:CET
DTSTART:20271031T010000
END:STANDARD
BEGIN:DAYLIGHT
TZOFFSETFROM:+0100
TZOFFSETTO:+0200
TZNAME:CEST
DTSTART:20280326T010000
END:DAYLIGHT
BEGIN:STANDARD
TZOFFSETFROM:+0200
TZOFFSETTO:+0100
TZNAME:CET
DTSTART:20281029T010000
END:STANDARD
END:VTIMEZONE
BEGIN:VEVENT
DTSTART;TZID=Europe/Berlin:20270804T160000
DTEND;TZID=Europe/Berlin:20270804T190000
DTSTAMP:20260422T232453
CREATED:20251113T113322Z
LAST-MODIFIED:20260410T135049Z
UID:10004996-1817395200-1817406000@jugendarbeit-bamberg.de
SUMMARY:Textildruck & Risodruck
DESCRIPTION:Jeden Mittwoch zeigen euch Rahel und Luz in der Kreativwerkstatt wie ihr Kleidung mit eigenen Motiven bedrucken oder Poster mit einem Risodrucker erstellen könnt. \nEinfach zwischen 16 und 19 Uhr vorbeikommen! \nBitte beachte\, dass sich unsere Workshops vorrangig an unsere Zielgruppe (ca. 12 bis 27- jährige) richten. \n 
URL:https://jugendarbeit-bamberg.de/termine/textildruck-risodruck-2/2027-08-04/
LOCATION:BENZE\, Coburger Str. 45B\, Bamberg\, 96052
CATEGORIES:Begegnung,Kunst,Workshop
ATTACH;FMTTYPE=image/png:https://jugendarbeit-bamberg.de/wp-content/uploads/2025/11/Vorlagen_Workshops_Events_Raeume6.png
ORGANIZER;CN="BENZE":MAILTO:juz.bamberg@iso-ev.de
END:VEVENT
BEGIN:VEVENT
DTSTART;TZID=Europe/Berlin:20270804T170000
DTEND;TZID=Europe/Berlin:20270804T190000
DTSTAMP:20260422T232453
CREATED:20251113T113342Z
LAST-MODIFIED:20260415T094501Z
UID:10005513-1817398800-1817406000@jugendarbeit-bamberg.de
SUMMARY:Schräg vorwärts
DESCRIPTION:Du möchtest gerne Leute treffen? Du möchtest neues ausprobieren? Du hast noch nicht das richtige Hobby gefunden? \nDie Aktivgruppe des SkF e.V. probiert jede Woche verschiedene Dinge aus- mal sportlich\, mal kreativ\, mal gemütlich.\nDu brauchst keine Vorkenntnisse\, du musst nicht der super Smalltalker sein\, du kannst herausfinden was dir Spaß macht.
URL:https://jugendarbeit-bamberg.de/termine/__trashed-8/2027-08-04/
LOCATION:BENZE\, Coburger Str. 45B\, Bamberg\, 96052
CATEGORIES:Begegnung,Beteiligung,ja:ba ist bunt
ATTACH;FMTTYPE=image/png:https://jugendarbeit-bamberg.de/wp-content/uploads/2024/03/Design-ohne-Titel10.png
ORGANIZER;CN="Sozialdienst Katholischer Frauen e.V.":MAILTO:info@skf-bamberg.de
END:VEVENT
END:VCALENDAR