BEGIN:VCALENDAR
VERSION:2.0
PRODID:-//Jugendarbeit Bamberg - ECPv6.15.17//NONSGML v1.0//EN
CALSCALE:GREGORIAN
METHOD:PUBLISH
X-WR-CALNAME:Jugendarbeit Bamberg
X-ORIGINAL-URL:https://jugendarbeit-bamberg.de
X-WR-CALDESC:Veranstaltungen für Jugendarbeit Bamberg
REFRESH-INTERVAL;VALUE=DURATION:PT1H
X-Robots-Tag:noindex
X-PUBLISHED-TTL:PT1H
BEGIN:VTIMEZONE
TZID:Europe/Berlin
BEGIN:DAYLIGHT
TZOFFSETFROM:+0100
TZOFFSETTO:+0200
TZNAME:CEST
DTSTART:20240331T010000
END:DAYLIGHT
BEGIN:STANDARD
TZOFFSETFROM:+0200
TZOFFSETTO:+0100
TZNAME:CET
DTSTART:20241027T010000
END:STANDARD
BEGIN:DAYLIGHT
TZOFFSETFROM:+0100
TZOFFSETTO:+0200
TZNAME:CEST
DTSTART:20250330T010000
END:DAYLIGHT
BEGIN:STANDARD
TZOFFSETFROM:+0200
TZOFFSETTO:+0100
TZNAME:CET
DTSTART:20251026T010000
END:STANDARD
BEGIN:DAYLIGHT
TZOFFSETFROM:+0100
TZOFFSETTO:+0200
TZNAME:CEST
DTSTART:20260329T010000
END:DAYLIGHT
BEGIN:STANDARD
TZOFFSETFROM:+0200
TZOFFSETTO:+0100
TZNAME:CET
DTSTART:20261025T010000
END:STANDARD
END:VTIMEZONE
BEGIN:VEVENT
DTSTART;TZID=Europe/Berlin:20251201T163000
DTEND;TZID=Europe/Berlin:20251201T173000
DTSTAMP:20260420T120020
CREATED:20251113T113226Z
LAST-MODIFIED:20251114T094414Z
UID:10005687-1764606600-1764610200@jugendarbeit-bamberg.de
SUMMARY:Yoga für Frauen
DESCRIPTION:🧘‍♀️ Neues Angebot in Kooperation mit Freund statt fremd: Yoga für Frauen 🧘‍♀️ \nAb dem 15. September 2025 starten wir mit einem neuen\, kostenfreien Yoga-Kurs für Frauen ab 14 Jahren!\nImmer montags von 16:30 bis 17:30 Uhr in der Baskidhall\, Kornstraße 20\, Bamberg. \nDer Kurs ist anfängerinnenfreundlich\, kostenlos und bietet euch die perfekte Möglichkeit\, Körper und Geist in Einklang zu bringen. 🌿✨ \nBitte bringt eine eigene Yogamatte mit. \nWir freuen uns auf euch! 💛
URL:https://jugendarbeit-bamberg.de/termine/yoga-fuer-frauen-2/2025-12-01/
LOCATION:BasKIDhall\, Kornstraße 20\, Bamberg\, 96050
CATEGORIES:Begegnung,Sport
ATTACH;FMTTYPE=image/jpeg:https://jugendarbeit-bamberg.de/wp-content/uploads/2025/09/Yoga1.jpg
END:VEVENT
BEGIN:VEVENT
DTSTART;TZID=Europe/Berlin:20251203T160000
DTEND;TZID=Europe/Berlin:20251203T190000
DTSTAMP:20260420T120020
CREATED:20251113T113322Z
LAST-MODIFIED:20260410T135049Z
UID:10004911-1764777600-1764788400@jugendarbeit-bamberg.de
SUMMARY:Textildruck & Risodruck
DESCRIPTION:Jeden Mittwoch zeigen euch Rahel und Luz in der Kreativwerkstatt wie ihr Kleidung mit eigenen Motiven bedrucken oder Poster mit einem Risodrucker erstellen könnt. \nEinfach zwischen 16 und 19 Uhr vorbeikommen! \nBitte beachte\, dass sich unsere Workshops vorrangig an unsere Zielgruppe (ca. 12 bis 27- jährige) richten. \n 
URL:https://jugendarbeit-bamberg.de/termine/textildruck-risodruck-2/2025-12-03/
LOCATION:BENZE\, Coburger Str. 45B\, Bamberg\, 96052
CATEGORIES:Begegnung,Kunst,Workshop
ATTACH;FMTTYPE=image/png:https://jugendarbeit-bamberg.de/wp-content/uploads/2025/11/Vorlagen_Workshops_Events_Raeume6.png
ORGANIZER;CN="BENZE":MAILTO:juz.bamberg@iso-ev.de
END:VEVENT
BEGIN:VEVENT
DTSTART;TZID=Europe/Berlin:20251203T170000
DTEND;TZID=Europe/Berlin:20251203T190000
DTSTAMP:20260420T120020
CREATED:20251113T113342Z
LAST-MODIFIED:20260415T094501Z
UID:10005428-1764781200-1764788400@jugendarbeit-bamberg.de
SUMMARY:Schräg vorwärts
DESCRIPTION:Du möchtest gerne Leute treffen? Du möchtest neues ausprobieren? Du hast noch nicht das richtige Hobby gefunden? \nDie Aktivgruppe des SkF e.V. probiert jede Woche verschiedene Dinge aus- mal sportlich\, mal kreativ\, mal gemütlich.\nDu brauchst keine Vorkenntnisse\, du musst nicht der super Smalltalker sein\, du kannst herausfinden was dir Spaß macht.
URL:https://jugendarbeit-bamberg.de/termine/__trashed-8/2025-12-03/
LOCATION:BENZE\, Coburger Str. 45B\, Bamberg\, 96052
CATEGORIES:Begegnung,Beteiligung,ja:ba ist bunt
ATTACH;FMTTYPE=image/png:https://jugendarbeit-bamberg.de/wp-content/uploads/2024/03/Design-ohne-Titel10.png
ORGANIZER;CN="Sozialdienst Katholischer Frauen e.V.":MAILTO:info@skf-bamberg.de
END:VEVENT
BEGIN:VEVENT
DTSTART;TZID=Europe/Berlin:20251204T160000
DTEND;TZID=Europe/Berlin:20251204T190000
DTSTAMP:20260420T120020
CREATED:20251113T113400Z
LAST-MODIFIED:20260226T113508Z
UID:10004592-1764864000-1764874800@jugendarbeit-bamberg.de
SUMMARY:Töpfern
DESCRIPTION:Jeden Donnerstag könnt ihr in der Kreativwerkstatt mit unserer Johanna Töpfern ausprobieren. \nAlles auf Spendenbasis. Einfach zwischen 16 und 19 Uhr vorbeischauen. \nBitte beachte\, dass sich unsere Workshops vorrangig an unsere Zielgruppe (ca 12 bis 27-jährige) richten.
URL:https://jugendarbeit-bamberg.de/termine/keramik-naehen-fotolabor-2/2025-12-04/
LOCATION:BENZE\, Coburger Str. 45B\, Bamberg\, 96052
CATEGORIES:Begegnung,Kunst,Workshop
ATTACH;FMTTYPE=image/png:https://jugendarbeit-bamberg.de/wp-content/uploads/2025/11/11.png
ORGANIZER;CN="BENZE":MAILTO:juz.bamberg@iso-ev.de
END:VEVENT
BEGIN:VEVENT
DTSTART;TZID=Europe/Berlin:20251204T160000
DTEND;TZID=Europe/Berlin:20251204T190000
DTSTAMP:20260420T120020
CREATED:20251113T113458Z
LAST-MODIFIED:20260226T114322Z
UID:10006927-1764864000-1764874800@jugendarbeit-bamberg.de
SUMMARY:Graffiti-Workshop
DESCRIPTION:Alex gibt euch Tipps und Tricks beim Sprayen! \nAuf unserer legalen Graffitiwand könnt ihr euch ausprobieren.\nIhr müsst nichts mitbringen.
URL:https://jugendarbeit-bamberg.de/termine/graffiti-workshop/2025-12-04/
LOCATION:BENZE\, Coburger Str. 45B\, Bamberg\, 96052
CATEGORIES:Begegnung,ja:ba ist bunt,Kunst,Workshop
ATTACH;FMTTYPE=image/png:https://jugendarbeit-bamberg.de/wp-content/uploads/2025/11/Vorlagen_Workshops_Events_Raeume5.png
ORGANIZER;CN="BENZE":MAILTO:juz.bamberg@iso-ev.de
END:VEVENT
BEGIN:VEVENT
DTSTART;TZID=Europe/Berlin:20251205T160000
DTEND;TZID=Europe/Berlin:20251205T200000
DTSTAMP:20260420T120020
CREATED:20251128T105338Z
LAST-MODIFIED:20251128T105338Z
UID:10006076-1764950400-1764964800@jugendarbeit-bamberg.de
SUMMARY:queerer Jugendtreff - von und für Jugendliche
DESCRIPTION:queerer Jugendtreff – jeden Freitag!Unser offener Treff bietet jungen queeren Menschen einen sicheren Raum zum Begegnen\, Austauschen und Kontakte knüpfen. Egal ob du quatschst\, chillst\, neue Leute kennenlernen oder dich einfach wohlfühlen willst – hier bist du willkommen. Gemeinsam schaffen wir einen Ort\, an dem Vielfalt gefeiert wird und jeder so sein kann\, wie ersie ist. \nKomm vorbei – wir freuen uns auf dich! 🌈✨ \nDu findest den Treff im Gruppenraum im 1.Stock.
URL:https://jugendarbeit-bamberg.de/termine/queerer-jugendtreff-von-und-fuer-jugendliche/2025-12-05/
LOCATION:BENZE\, Coburger Str. 45B\, Bamberg\, 96052
CATEGORIES:Begegnung,ja:ba ist bunt
ATTACH;FMTTYPE=image/png:https://jugendarbeit-bamberg.de/wp-content/uploads/2025/11/Screenshot-2025-11-28-at-11-49-01-Instagram.png
END:VEVENT
BEGIN:VEVENT
DTSTART;TZID=Europe/Berlin:20251206T150000
DTEND;TZID=Europe/Berlin:20251206T170000
DTSTAMP:20260420T120020
CREATED:20251030T123428Z
LAST-MODIFIED:20251114T094744Z
UID:10005943-1765033200-1765040400@jugendarbeit-bamberg.de
SUMMARY:Selbsthilfegruppe von und für Jugendliche
DESCRIPTION:🌿 Selbsthilfegruppe für Jugendliche – Jetzt alle 2 Wochen! 🌿 \nManchmal ist einfach alles zu viel. Zweifel\, Ängste\, Druck\, Gedankenkarussell – und das Gefühl\, damit allein zu sein.Doch das musst du nicht 💚 \nDie Selbsthilfegruppe von und für Jugendliche bietet dir einen Schutzraum\, in dem du gehört und verstanden wirst.Ganz ohne Bewertung\, ganz ohne Zwang – einfach ein gemütliches Umfeld\, in dem du sein darfst\, wie du bist. \n🗓️ Treffen: alle 2 Wochen📍 Ort: BENZE Bamberg💬 Für wen: Alle jungen Menschen\, die sich austauschen\, verstanden fühlen oder einfach mal reden möchten. \nBei Fragen oder Interesse:📧 selbsthilfegruppe-bamberg@outlook.de\n📱 oder per DM auf Instagram: @selbsthilfegruppe_juz_ba
URL:https://jugendarbeit-bamberg.de/termine/selbsthilfegruppe-fuer-jugendliche/2025-12-06/
LOCATION:BENZE\, Coburger Str. 45B\, Bamberg\, 96052
CATEGORIES:Begegnung,ja:ba ist bunt
ATTACH;FMTTYPE=image/png:https://jugendarbeit-bamberg.de/wp-content/uploads/2025/10/Vorlagen_Workshops_Events_Raeume-1.png
END:VEVENT
BEGIN:VEVENT
DTSTART;TZID=Europe/Berlin:20251208T160000
DTEND;TZID=Europe/Berlin:20251208T190000
DTSTAMP:20260420T120020
CREATED:20251114T105252Z
LAST-MODIFIED:20251114T105252Z
UID:10006072-1765209600-1765220400@jugendarbeit-bamberg.de
SUMMARY:Workshop: WenDo Selbstverteidigungskurs für Mädchen*
DESCRIPTION:✨ WenDo-Workshop für Mädels (10–14 Jahre)!* ✨Am 08.12.2025 von 16–19 Uhr findet bei uns in der BENZE (Bewegungsraum\, 1. Stock) ein besonderer Selbstbehauptungs- und Selbstverteidigungsworkshop statt – geleitet von WenDo-Trainerin Angie Thomas. \nIm Workshop lernst du:💡 heikle Situationen früh wahrzunehmen und ruhig zu bleiben🗣️ selbstbewusst Grenzen zu setzen💪 einfache\, effektive Selbstverteidigungstechniken für den Notfall anzuwenden \nDer Workshop ist Teil des übergreifenden MädelsTreffs – max. 12 Teilnehmerinnen. \nSchreibt dazu bitte einfach eine Mail an: benze.bamberg@iso-ev.de oder schreibt eine DM an @benzebamberg \nMädels*\, wir freuen uns auf euch! 💜
URL:https://jugendarbeit-bamberg.de/termine/workshop-wendo-selbstverteidigungskurs-fuer-maedchen/
LOCATION:BENZE\, Coburger Str. 45B\, Bamberg\, 96052
CATEGORIES:ja:ba ist bunt,Sport,Workshop
ATTACH;FMTTYPE=image/png:https://jugendarbeit-bamberg.de/wp-content/uploads/2025/11/Vorlagen_Workshops_Events_Raeume2.png
END:VEVENT
BEGIN:VEVENT
DTSTART;TZID=Europe/Berlin:20251208T163000
DTEND;TZID=Europe/Berlin:20251208T173000
DTSTAMP:20260420T120020
CREATED:20251113T113226Z
LAST-MODIFIED:20251114T094414Z
UID:10005688-1765211400-1765215000@jugendarbeit-bamberg.de
SUMMARY:Yoga für Frauen
DESCRIPTION:🧘‍♀️ Neues Angebot in Kooperation mit Freund statt fremd: Yoga für Frauen 🧘‍♀️ \nAb dem 15. September 2025 starten wir mit einem neuen\, kostenfreien Yoga-Kurs für Frauen ab 14 Jahren!\nImmer montags von 16:30 bis 17:30 Uhr in der Baskidhall\, Kornstraße 20\, Bamberg. \nDer Kurs ist anfängerinnenfreundlich\, kostenlos und bietet euch die perfekte Möglichkeit\, Körper und Geist in Einklang zu bringen. 🌿✨ \nBitte bringt eine eigene Yogamatte mit. \nWir freuen uns auf euch! 💛
URL:https://jugendarbeit-bamberg.de/termine/yoga-fuer-frauen-2/2025-12-08/
LOCATION:BasKIDhall\, Kornstraße 20\, Bamberg\, 96050
CATEGORIES:Begegnung,Sport
ATTACH;FMTTYPE=image/jpeg:https://jugendarbeit-bamberg.de/wp-content/uploads/2025/09/Yoga1.jpg
END:VEVENT
BEGIN:VEVENT
DTSTART;TZID=Europe/Berlin:20251210T160000
DTEND;TZID=Europe/Berlin:20251210T190000
DTSTAMP:20260420T120020
CREATED:20251113T113322Z
LAST-MODIFIED:20260410T135049Z
UID:10004912-1765382400-1765393200@jugendarbeit-bamberg.de
SUMMARY:Textildruck & Risodruck
DESCRIPTION:Jeden Mittwoch zeigen euch Rahel und Luz in der Kreativwerkstatt wie ihr Kleidung mit eigenen Motiven bedrucken oder Poster mit einem Risodrucker erstellen könnt. \nEinfach zwischen 16 und 19 Uhr vorbeikommen! \nBitte beachte\, dass sich unsere Workshops vorrangig an unsere Zielgruppe (ca. 12 bis 27- jährige) richten. \n 
URL:https://jugendarbeit-bamberg.de/termine/textildruck-risodruck-2/2025-12-10/
LOCATION:BENZE\, Coburger Str. 45B\, Bamberg\, 96052
CATEGORIES:Begegnung,Kunst,Workshop
ATTACH;FMTTYPE=image/png:https://jugendarbeit-bamberg.de/wp-content/uploads/2025/11/Vorlagen_Workshops_Events_Raeume6.png
ORGANIZER;CN="BENZE":MAILTO:juz.bamberg@iso-ev.de
END:VEVENT
BEGIN:VEVENT
DTSTART;TZID=Europe/Berlin:20251210T170000
DTEND;TZID=Europe/Berlin:20251210T190000
DTSTAMP:20260420T120020
CREATED:20251113T113342Z
LAST-MODIFIED:20260415T094501Z
UID:10005429-1765386000-1765393200@jugendarbeit-bamberg.de
SUMMARY:Schräg vorwärts
DESCRIPTION:Du möchtest gerne Leute treffen? Du möchtest neues ausprobieren? Du hast noch nicht das richtige Hobby gefunden? \nDie Aktivgruppe des SkF e.V. probiert jede Woche verschiedene Dinge aus- mal sportlich\, mal kreativ\, mal gemütlich.\nDu brauchst keine Vorkenntnisse\, du musst nicht der super Smalltalker sein\, du kannst herausfinden was dir Spaß macht.
URL:https://jugendarbeit-bamberg.de/termine/__trashed-8/2025-12-10/
LOCATION:BENZE\, Coburger Str. 45B\, Bamberg\, 96052
CATEGORIES:Begegnung,Beteiligung,ja:ba ist bunt
ATTACH;FMTTYPE=image/png:https://jugendarbeit-bamberg.de/wp-content/uploads/2024/03/Design-ohne-Titel10.png
ORGANIZER;CN="Sozialdienst Katholischer Frauen e.V.":MAILTO:info@skf-bamberg.de
END:VEVENT
BEGIN:VEVENT
DTSTART;TZID=Europe/Berlin:20251211T160000
DTEND;TZID=Europe/Berlin:20251211T190000
DTSTAMP:20260420T120020
CREATED:20251113T113400Z
LAST-MODIFIED:20260226T113508Z
UID:10004593-1765468800-1765479600@jugendarbeit-bamberg.de
SUMMARY:Töpfern
DESCRIPTION:Jeden Donnerstag könnt ihr in der Kreativwerkstatt mit unserer Johanna Töpfern ausprobieren. \nAlles auf Spendenbasis. Einfach zwischen 16 und 19 Uhr vorbeischauen. \nBitte beachte\, dass sich unsere Workshops vorrangig an unsere Zielgruppe (ca 12 bis 27-jährige) richten.
URL:https://jugendarbeit-bamberg.de/termine/keramik-naehen-fotolabor-2/2025-12-11/
LOCATION:BENZE\, Coburger Str. 45B\, Bamberg\, 96052
CATEGORIES:Begegnung,Kunst,Workshop
ATTACH;FMTTYPE=image/png:https://jugendarbeit-bamberg.de/wp-content/uploads/2025/11/11.png
ORGANIZER;CN="BENZE":MAILTO:juz.bamberg@iso-ev.de
END:VEVENT
BEGIN:VEVENT
DTSTART;TZID=Europe/Berlin:20251212T160000
DTEND;TZID=Europe/Berlin:20251212T200000
DTSTAMP:20260420T120020
CREATED:20251128T105338Z
LAST-MODIFIED:20251128T105338Z
UID:10006077-1765555200-1765569600@jugendarbeit-bamberg.de
SUMMARY:queerer Jugendtreff - von und für Jugendliche
DESCRIPTION:queerer Jugendtreff – jeden Freitag!Unser offener Treff bietet jungen queeren Menschen einen sicheren Raum zum Begegnen\, Austauschen und Kontakte knüpfen. Egal ob du quatschst\, chillst\, neue Leute kennenlernen oder dich einfach wohlfühlen willst – hier bist du willkommen. Gemeinsam schaffen wir einen Ort\, an dem Vielfalt gefeiert wird und jeder so sein kann\, wie ersie ist. \nKomm vorbei – wir freuen uns auf dich! 🌈✨ \nDu findest den Treff im Gruppenraum im 1.Stock.
URL:https://jugendarbeit-bamberg.de/termine/queerer-jugendtreff-von-und-fuer-jugendliche/2025-12-12/
LOCATION:BENZE\, Coburger Str. 45B\, Bamberg\, 96052
CATEGORIES:Begegnung,ja:ba ist bunt
ATTACH;FMTTYPE=image/png:https://jugendarbeit-bamberg.de/wp-content/uploads/2025/11/Screenshot-2025-11-28-at-11-49-01-Instagram.png
END:VEVENT
BEGIN:VEVENT
DTSTART;TZID=Europe/Berlin:20251212T160000
DTEND;TZID=Europe/Berlin:20251212T200000
DTSTAMP:20260420T120020
CREATED:20251212T122204Z
LAST-MODIFIED:20260324T114837Z
UID:10006335-1765555200-1765569600@jugendarbeit-bamberg.de
SUMMARY:Skatesession
DESCRIPTION:Ab jetzt könnt ihr jeden Freitag von 16-20 Uhr unsere Skatehalle nutzen! \nWir probieren es jetzt erst Mal ohne Buchungssystem. Das heißt\, ihr könnt einfach ohne Anmeldung kommen! \nOb zukünftig zusätzliche Skatetage möglich sind\, müssen wir zwecks Lautstärke (im Cafébereich) erst Mal testen 🙂
URL:https://jugendarbeit-bamberg.de/termine/skatesession/2025-12-12/
LOCATION:BENZE\, Coburger Str. 45B\, Bamberg\, 96052
CATEGORIES:Begegnung,Sport
ATTACH;FMTTYPE=image/png:https://jugendarbeit-bamberg.de/wp-content/uploads/2025/11/Screenshot-2025-11-28-at-11-54-13-Instagram.png
ORGANIZER;CN="BENZE":MAILTO:juz.bamberg@iso-ev.de
END:VEVENT
BEGIN:VEVENT
DTSTART;TZID=Europe/Berlin:20251213T180000
DTEND;TZID=Europe/Berlin:20251213T220000
DTSTAMP:20260420T120020
CREATED:20251114T104002Z
LAST-MODIFIED:20251114T111940Z
UID:10006071-1765648800-1765663200@jugendarbeit-bamberg.de
SUMMARY:Konzert: The Bleeding Crypt Gathering
DESCRIPTION:The Bleeding Crypt Gathering\nam 13.12.25 lässt das Kollektiv Hekate die BENZE „bluten“.\nSchreibt es euch in eure Kalender und kommt vorbei. \n🗡️URISK @urisk.band\n🗡️MACHUKHA @machukha.stepmother\n🗡️WINSELMUTTER @winselmutter.bm
URL:https://jugendarbeit-bamberg.de/termine/konzert-the-bleeding-crypt-gathering/
LOCATION:BENZE\, Coburger Str. 45B\, Bamberg\, 96052
CATEGORIES:Begegnung,Konzert
ATTACH;FMTTYPE=image/png:https://jugendarbeit-bamberg.de/wp-content/uploads/2025/11/Vorlagen_Workshops_Events_Raeume3.png
END:VEVENT
BEGIN:VEVENT
DTSTART;TZID=Europe/Berlin:20251215T163000
DTEND;TZID=Europe/Berlin:20251215T173000
DTSTAMP:20260420T120020
CREATED:20251113T113226Z
LAST-MODIFIED:20251114T094414Z
UID:10005689-1765816200-1765819800@jugendarbeit-bamberg.de
SUMMARY:Yoga für Frauen
DESCRIPTION:🧘‍♀️ Neues Angebot in Kooperation mit Freund statt fremd: Yoga für Frauen 🧘‍♀️ \nAb dem 15. September 2025 starten wir mit einem neuen\, kostenfreien Yoga-Kurs für Frauen ab 14 Jahren!\nImmer montags von 16:30 bis 17:30 Uhr in der Baskidhall\, Kornstraße 20\, Bamberg. \nDer Kurs ist anfängerinnenfreundlich\, kostenlos und bietet euch die perfekte Möglichkeit\, Körper und Geist in Einklang zu bringen. 🌿✨ \nBitte bringt eine eigene Yogamatte mit. \nWir freuen uns auf euch! 💛
URL:https://jugendarbeit-bamberg.de/termine/yoga-fuer-frauen-2/2025-12-15/
LOCATION:BasKIDhall\, Kornstraße 20\, Bamberg\, 96050
CATEGORIES:Begegnung,Sport
ATTACH;FMTTYPE=image/jpeg:https://jugendarbeit-bamberg.de/wp-content/uploads/2025/09/Yoga1.jpg
END:VEVENT
BEGIN:VEVENT
DTSTART;TZID=Europe/Berlin:20251217T160000
DTEND;TZID=Europe/Berlin:20251217T190000
DTSTAMP:20260420T120020
CREATED:20251113T113322Z
LAST-MODIFIED:20260410T135049Z
UID:10004913-1765987200-1765998000@jugendarbeit-bamberg.de
SUMMARY:Textildruck & Risodruck
DESCRIPTION:Jeden Mittwoch zeigen euch Rahel und Luz in der Kreativwerkstatt wie ihr Kleidung mit eigenen Motiven bedrucken oder Poster mit einem Risodrucker erstellen könnt. \nEinfach zwischen 16 und 19 Uhr vorbeikommen! \nBitte beachte\, dass sich unsere Workshops vorrangig an unsere Zielgruppe (ca. 12 bis 27- jährige) richten. \n 
URL:https://jugendarbeit-bamberg.de/termine/textildruck-risodruck-2/2025-12-17/
LOCATION:BENZE\, Coburger Str. 45B\, Bamberg\, 96052
CATEGORIES:Begegnung,Kunst,Workshop
ATTACH;FMTTYPE=image/png:https://jugendarbeit-bamberg.de/wp-content/uploads/2025/11/Vorlagen_Workshops_Events_Raeume6.png
ORGANIZER;CN="BENZE":MAILTO:juz.bamberg@iso-ev.de
END:VEVENT
BEGIN:VEVENT
DTSTART;TZID=Europe/Berlin:20251217T170000
DTEND;TZID=Europe/Berlin:20251217T190000
DTSTAMP:20260420T120020
CREATED:20251113T113342Z
LAST-MODIFIED:20260415T094501Z
UID:10005430-1765990800-1765998000@jugendarbeit-bamberg.de
SUMMARY:Schräg vorwärts
DESCRIPTION:Du möchtest gerne Leute treffen? Du möchtest neues ausprobieren? Du hast noch nicht das richtige Hobby gefunden? \nDie Aktivgruppe des SkF e.V. probiert jede Woche verschiedene Dinge aus- mal sportlich\, mal kreativ\, mal gemütlich.\nDu brauchst keine Vorkenntnisse\, du musst nicht der super Smalltalker sein\, du kannst herausfinden was dir Spaß macht.
URL:https://jugendarbeit-bamberg.de/termine/__trashed-8/2025-12-17/
LOCATION:BENZE\, Coburger Str. 45B\, Bamberg\, 96052
CATEGORIES:Begegnung,Beteiligung,ja:ba ist bunt
ATTACH;FMTTYPE=image/png:https://jugendarbeit-bamberg.de/wp-content/uploads/2024/03/Design-ohne-Titel10.png
ORGANIZER;CN="Sozialdienst Katholischer Frauen e.V.":MAILTO:info@skf-bamberg.de
END:VEVENT
BEGIN:VEVENT
DTSTART;TZID=Europe/Berlin:20251218T160000
DTEND;TZID=Europe/Berlin:20251218T190000
DTSTAMP:20260420T120020
CREATED:20251113T113400Z
LAST-MODIFIED:20260226T113508Z
UID:10004594-1766073600-1766084400@jugendarbeit-bamberg.de
SUMMARY:Töpfern
DESCRIPTION:Jeden Donnerstag könnt ihr in der Kreativwerkstatt mit unserer Johanna Töpfern ausprobieren. \nAlles auf Spendenbasis. Einfach zwischen 16 und 19 Uhr vorbeischauen. \nBitte beachte\, dass sich unsere Workshops vorrangig an unsere Zielgruppe (ca 12 bis 27-jährige) richten.
URL:https://jugendarbeit-bamberg.de/termine/keramik-naehen-fotolabor-2/2025-12-18/
LOCATION:BENZE\, Coburger Str. 45B\, Bamberg\, 96052
CATEGORIES:Begegnung,Kunst,Workshop
ATTACH;FMTTYPE=image/png:https://jugendarbeit-bamberg.de/wp-content/uploads/2025/11/11.png
ORGANIZER;CN="BENZE":MAILTO:juz.bamberg@iso-ev.de
END:VEVENT
BEGIN:VEVENT
DTSTART;TZID=Europe/Berlin:20251219T160000
DTEND;TZID=Europe/Berlin:20251219T200000
DTSTAMP:20260420T120020
CREATED:20251128T104753Z
LAST-MODIFIED:20251128T104753Z
UID:10006074-1766160000-1766174400@jugendarbeit-bamberg.de
SUMMARY:Gemeinsam Plätzchen backen
DESCRIPTION:Hohoho\, es weihnachtet sehr. Damit ihr auch mit einer vollen Plätzchendose in den Weihnachtsurlaub starten könnt\, werden wir gemeinsam in der BENZE Plätzchen backen!\nOrganisiert wird die Aktion von @jugendinitiativebamberg.  
URL:https://jugendarbeit-bamberg.de/termine/gemeinsam-plaetzchen-backen/
LOCATION:BENZE\, Coburger Str. 45B\, Bamberg\, 96052
CATEGORIES:Begegnung,Beteiligung,ja:ba ist bunt
ATTACH;FMTTYPE=image/png:https://jugendarbeit-bamberg.de/wp-content/uploads/2025/11/Screenshot-2025-11-28-at-11-44-52-Instagram.png
END:VEVENT
BEGIN:VEVENT
DTSTART;TZID=Europe/Berlin:20251219T160000
DTEND;TZID=Europe/Berlin:20251219T200000
DTSTAMP:20260420T120020
CREATED:20251128T105338Z
LAST-MODIFIED:20251128T105338Z
UID:10006078-1766160000-1766174400@jugendarbeit-bamberg.de
SUMMARY:queerer Jugendtreff - von und für Jugendliche
DESCRIPTION:queerer Jugendtreff – jeden Freitag!Unser offener Treff bietet jungen queeren Menschen einen sicheren Raum zum Begegnen\, Austauschen und Kontakte knüpfen. Egal ob du quatschst\, chillst\, neue Leute kennenlernen oder dich einfach wohlfühlen willst – hier bist du willkommen. Gemeinsam schaffen wir einen Ort\, an dem Vielfalt gefeiert wird und jeder so sein kann\, wie ersie ist. \nKomm vorbei – wir freuen uns auf dich! 🌈✨ \nDu findest den Treff im Gruppenraum im 1.Stock.
URL:https://jugendarbeit-bamberg.de/termine/queerer-jugendtreff-von-und-fuer-jugendliche/2025-12-19/
LOCATION:BENZE\, Coburger Str. 45B\, Bamberg\, 96052
CATEGORIES:Begegnung,ja:ba ist bunt
ATTACH;FMTTYPE=image/png:https://jugendarbeit-bamberg.de/wp-content/uploads/2025/11/Screenshot-2025-11-28-at-11-49-01-Instagram.png
END:VEVENT
BEGIN:VEVENT
DTSTART;TZID=Europe/Berlin:20251219T160000
DTEND;TZID=Europe/Berlin:20251219T200000
DTSTAMP:20260420T120020
CREATED:20251212T122204Z
LAST-MODIFIED:20260324T114837Z
UID:10006336-1766160000-1766174400@jugendarbeit-bamberg.de
SUMMARY:Skatesession
DESCRIPTION:Ab jetzt könnt ihr jeden Freitag von 16-20 Uhr unsere Skatehalle nutzen! \nWir probieren es jetzt erst Mal ohne Buchungssystem. Das heißt\, ihr könnt einfach ohne Anmeldung kommen! \nOb zukünftig zusätzliche Skatetage möglich sind\, müssen wir zwecks Lautstärke (im Cafébereich) erst Mal testen 🙂
URL:https://jugendarbeit-bamberg.de/termine/skatesession/2025-12-19/
LOCATION:BENZE\, Coburger Str. 45B\, Bamberg\, 96052
CATEGORIES:Begegnung,Sport
ATTACH;FMTTYPE=image/png:https://jugendarbeit-bamberg.de/wp-content/uploads/2025/11/Screenshot-2025-11-28-at-11-54-13-Instagram.png
ORGANIZER;CN="BENZE":MAILTO:juz.bamberg@iso-ev.de
END:VEVENT
BEGIN:VEVENT
DTSTART;TZID=Europe/Berlin:20251219T160000
DTEND;TZID=Europe/Berlin:20251219T200000
DTSTAMP:20260420T120020
CREATED:20251217T100714Z
LAST-MODIFIED:20251217T100714Z
UID:10006602-1766160000-1766174400@jugendarbeit-bamberg.de
SUMMARY:not so sad Christmas: Basteln gegen Trübsinn und für gute Laune
DESCRIPTION:Das Kollektiv Hekate präsentiert: \n\nAm Freitag wird gebastelt.\nFür Weihnachten\, für gute Laune.\nGegen Trübsinn und Schwermut. \nKomm vorbei und bastel los.\nAnhänger\, Plätzchenschachteln\, Armbänder\, Mini-Alben\,… wir haben da was vorbereitet.\nOder bastel an deinem eigenen Projekt in freundlicher Runde. Wir unterstützen dich gerne dabei oder leisten dir schweigend Gesellschaft. \nBringt gerne Bastelmaterial und Snacks eurer Wahl mit.\nDas wird gemütlich.
URL:https://jugendarbeit-bamberg.de/termine/not-so-sad-christmas-basteln-gegen-truebsinn-und-fuer-gute-laune/
LOCATION:BENZE\, Coburger Str. 45B\, Bamberg\, 96052
CATEGORIES:Begegnung,Beteiligung,ja:ba ist bunt,Kunst,Workshop
ATTACH;FMTTYPE=image/png:https://jugendarbeit-bamberg.de/wp-content/uploads/2025/12/Vorlagen_Workshops_Events_Raeume7.png
END:VEVENT
BEGIN:VEVENT
DTSTART;TZID=Europe/Berlin:20251220T150000
DTEND;TZID=Europe/Berlin:20251220T170000
DTSTAMP:20260420T120020
CREATED:20251030T123428Z
LAST-MODIFIED:20251114T094744Z
UID:10005944-1766242800-1766250000@jugendarbeit-bamberg.de
SUMMARY:Selbsthilfegruppe von und für Jugendliche
DESCRIPTION:🌿 Selbsthilfegruppe für Jugendliche – Jetzt alle 2 Wochen! 🌿 \nManchmal ist einfach alles zu viel. Zweifel\, Ängste\, Druck\, Gedankenkarussell – und das Gefühl\, damit allein zu sein.Doch das musst du nicht 💚 \nDie Selbsthilfegruppe von und für Jugendliche bietet dir einen Schutzraum\, in dem du gehört und verstanden wirst.Ganz ohne Bewertung\, ganz ohne Zwang – einfach ein gemütliches Umfeld\, in dem du sein darfst\, wie du bist. \n🗓️ Treffen: alle 2 Wochen📍 Ort: BENZE Bamberg💬 Für wen: Alle jungen Menschen\, die sich austauschen\, verstanden fühlen oder einfach mal reden möchten. \nBei Fragen oder Interesse:📧 selbsthilfegruppe-bamberg@outlook.de\n📱 oder per DM auf Instagram: @selbsthilfegruppe_juz_ba
URL:https://jugendarbeit-bamberg.de/termine/selbsthilfegruppe-fuer-jugendliche/2025-12-20/
LOCATION:BENZE\, Coburger Str. 45B\, Bamberg\, 96052
CATEGORIES:Begegnung,ja:ba ist bunt
ATTACH;FMTTYPE=image/png:https://jugendarbeit-bamberg.de/wp-content/uploads/2025/10/Vorlagen_Workshops_Events_Raeume-1.png
END:VEVENT
END:VCALENDAR