BEGIN:VCALENDAR
VERSION:2.0
PRODID:-//Jugendarbeit Bamberg - ECPv6.15.17//NONSGML v1.0//EN
CALSCALE:GREGORIAN
METHOD:PUBLISH
X-WR-CALNAME:Jugendarbeit Bamberg
X-ORIGINAL-URL:https://jugendarbeit-bamberg.de
X-WR-CALDESC:Veranstaltungen für Jugendarbeit Bamberg
REFRESH-INTERVAL;VALUE=DURATION:PT1H
X-Robots-Tag:noindex
X-PUBLISHED-TTL:PT1H
BEGIN:VTIMEZONE
TZID:Europe/Berlin
BEGIN:DAYLIGHT
TZOFFSETFROM:+0100
TZOFFSETTO:+0200
TZNAME:CEST
DTSTART:20250330T010000
END:DAYLIGHT
BEGIN:STANDARD
TZOFFSETFROM:+0200
TZOFFSETTO:+0100
TZNAME:CET
DTSTART:20251026T010000
END:STANDARD
BEGIN:DAYLIGHT
TZOFFSETFROM:+0100
TZOFFSETTO:+0200
TZNAME:CEST
DTSTART:20260329T010000
END:DAYLIGHT
BEGIN:STANDARD
TZOFFSETFROM:+0200
TZOFFSETTO:+0100
TZNAME:CET
DTSTART:20261025T010000
END:STANDARD
BEGIN:DAYLIGHT
TZOFFSETFROM:+0100
TZOFFSETTO:+0200
TZNAME:CEST
DTSTART:20270328T010000
END:DAYLIGHT
BEGIN:STANDARD
TZOFFSETFROM:+0200
TZOFFSETTO:+0100
TZNAME:CET
DTSTART:20271031T010000
END:STANDARD
END:VTIMEZONE
BEGIN:VEVENT
DTSTART;TZID=Europe/Berlin:20260216T160000
DTEND;TZID=Europe/Berlin:20260216T180000
DTSTAMP:20260419T154304
CREATED:20260209T135605Z
LAST-MODIFIED:20260209T135605Z
UID:10006893-1771257600-1771264800@jugendarbeit-bamberg.de
SUMMARY:Faschingsdisco
DESCRIPTION:🎉 Am Rosenmontag\, 16.02. ist bei uns Faschingsdisco angesagt!🎉 \n🌟 Kostüme sind ausdrücklich erwünscht!🎭 \n👯 Mit Musik\, Tanz und Spiel feiern wir zusammen in der BasKIDhall Fasching!🎊 Außerdem wird es eine Fotostation geben\, wo ihr euch in eurem tollen Kostüm fotografieren lassen könnt.📸 \n🏆 Tolle Verkleidungen lohnen sich\, denn es wird einen Kostümwettbewerb mit verschiedenen Preisen geben! \n🍬 Wir werden auch für euch verschiedene Leckereien anbieten\, wie Obstspieße und Popcorn. Bringt gern ein kleines Taschengeld für den Essensverkauf mit🙆🏻 \n🎪 Faschingsdisco für alle zwischen 7 und 12 Jahren\n🗓️ 16.02.2026\n🕓 16:00 – 18:00\n📍 BasKIDhall\, Kornstr. 20\, 96050 Bamberg
URL:https://jugendarbeit-bamberg.de/termine/faschingsdisco/
LOCATION:BasKIDhall\, Kornstraße 20\, Bamberg\, 96050
CATEGORIES:Begegnung,ja:ba ist bunt,Party
ATTACH;FMTTYPE=image/png:https://jugendarbeit-bamberg.de/wp-content/uploads/2026/02/1.png
END:VEVENT
END:VCALENDAR