BEGIN:VCALENDAR
VERSION:2.0
PRODID:-//Jugendarbeit Bamberg - ECPv6.15.17//NONSGML v1.0//EN
CALSCALE:GREGORIAN
METHOD:PUBLISH
X-ORIGINAL-URL:https://jugendarbeit-bamberg.de
X-WR-CALDESC:Veranstaltungen für Jugendarbeit Bamberg
REFRESH-INTERVAL;VALUE=DURATION:PT1H
X-Robots-Tag:noindex
X-PUBLISHED-TTL:PT1H
BEGIN:VTIMEZONE
TZID:Europe/Berlin
BEGIN:DAYLIGHT
TZOFFSETFROM:+0100
TZOFFSETTO:+0200
TZNAME:CEST
DTSTART:20280326T010000
END:DAYLIGHT
BEGIN:STANDARD
TZOFFSETFROM:+0200
TZOFFSETTO:+0100
TZNAME:CET
DTSTART:20281029T010000
END:STANDARD
BEGIN:DAYLIGHT
TZOFFSETFROM:+0100
TZOFFSETTO:+0200
TZNAME:CEST
DTSTART:20290325T010000
END:DAYLIGHT
BEGIN:STANDARD
TZOFFSETFROM:+0200
TZOFFSETTO:+0100
TZNAME:CET
DTSTART:20291028T010000
END:STANDARD
BEGIN:DAYLIGHT
TZOFFSETFROM:+0100
TZOFFSETTO:+0200
TZNAME:CEST
DTSTART:20300331T010000
END:DAYLIGHT
BEGIN:STANDARD
TZOFFSETFROM:+0200
TZOFFSETTO:+0100
TZNAME:CET
DTSTART:20301027T010000
END:STANDARD
END:VTIMEZONE
BEGIN:VEVENT
DTSTART;TZID=Europe/Berlin:20290207T160000
DTEND;TZID=Europe/Berlin:20290207T190000
DTSTAMP:20260421T192617
CREATED:20251113T113322Z
LAST-MODIFIED:20260410T135049Z
UID:10005075-1865174400-1865185200@jugendarbeit-bamberg.de
SUMMARY:Textildruck & Risodruck
DESCRIPTION:Jeden Mittwoch zeigen euch Rahel und Luz in der Kreativwerkstatt wie ihr Kleidung mit eigenen Motiven bedrucken oder Poster mit einem Risodrucker erstellen könnt. \nEinfach zwischen 16 und 19 Uhr vorbeikommen! \nBitte beachte\, dass sich unsere Workshops vorrangig an unsere Zielgruppe (ca. 12 bis 27- jährige) richten. \n 
URL:https://jugendarbeit-bamberg.de/termine/textildruck-risodruck-2/2029-02-07/
LOCATION:BENZE\, Coburger Str. 45B\, Bamberg\, 96052
CATEGORIES:Begegnung,Kunst,Workshop
ATTACH;FMTTYPE=image/png:https://jugendarbeit-bamberg.de/wp-content/uploads/2025/11/Vorlagen_Workshops_Events_Raeume6.png
ORGANIZER;CN="BENZE":MAILTO:juz.bamberg@iso-ev.de
END:VEVENT
BEGIN:VEVENT
DTSTART;TZID=Europe/Berlin:20290214T160000
DTEND;TZID=Europe/Berlin:20290214T190000
DTSTAMP:20260421T192617
CREATED:20251113T113322Z
LAST-MODIFIED:20260410T135049Z
UID:10005076-1865779200-1865790000@jugendarbeit-bamberg.de
SUMMARY:Textildruck & Risodruck
DESCRIPTION:Jeden Mittwoch zeigen euch Rahel und Luz in der Kreativwerkstatt wie ihr Kleidung mit eigenen Motiven bedrucken oder Poster mit einem Risodrucker erstellen könnt. \nEinfach zwischen 16 und 19 Uhr vorbeikommen! \nBitte beachte\, dass sich unsere Workshops vorrangig an unsere Zielgruppe (ca. 12 bis 27- jährige) richten. \n 
URL:https://jugendarbeit-bamberg.de/termine/textildruck-risodruck-2/2029-02-14/
LOCATION:BENZE\, Coburger Str. 45B\, Bamberg\, 96052
CATEGORIES:Begegnung,Kunst,Workshop
ATTACH;FMTTYPE=image/png:https://jugendarbeit-bamberg.de/wp-content/uploads/2025/11/Vorlagen_Workshops_Events_Raeume6.png
ORGANIZER;CN="BENZE":MAILTO:juz.bamberg@iso-ev.de
END:VEVENT
BEGIN:VEVENT
DTSTART;TZID=Europe/Berlin:20290221T160000
DTEND;TZID=Europe/Berlin:20290221T190000
DTSTAMP:20260421T192617
CREATED:20251113T113322Z
LAST-MODIFIED:20260410T135049Z
UID:10005077-1866384000-1866394800@jugendarbeit-bamberg.de
SUMMARY:Textildruck & Risodruck
DESCRIPTION:Jeden Mittwoch zeigen euch Rahel und Luz in der Kreativwerkstatt wie ihr Kleidung mit eigenen Motiven bedrucken oder Poster mit einem Risodrucker erstellen könnt. \nEinfach zwischen 16 und 19 Uhr vorbeikommen! \nBitte beachte\, dass sich unsere Workshops vorrangig an unsere Zielgruppe (ca. 12 bis 27- jährige) richten. \n 
URL:https://jugendarbeit-bamberg.de/termine/textildruck-risodruck-2/2029-02-21/
LOCATION:BENZE\, Coburger Str. 45B\, Bamberg\, 96052
CATEGORIES:Begegnung,Kunst,Workshop
ATTACH;FMTTYPE=image/png:https://jugendarbeit-bamberg.de/wp-content/uploads/2025/11/Vorlagen_Workshops_Events_Raeume6.png
ORGANIZER;CN="BENZE":MAILTO:juz.bamberg@iso-ev.de
END:VEVENT
BEGIN:VEVENT
DTSTART;TZID=Europe/Berlin:20290228T160000
DTEND;TZID=Europe/Berlin:20290228T190000
DTSTAMP:20260421T192617
CREATED:20251113T113322Z
LAST-MODIFIED:20260410T135049Z
UID:10005078-1866988800-1866999600@jugendarbeit-bamberg.de
SUMMARY:Textildruck & Risodruck
DESCRIPTION:Jeden Mittwoch zeigen euch Rahel und Luz in der Kreativwerkstatt wie ihr Kleidung mit eigenen Motiven bedrucken oder Poster mit einem Risodrucker erstellen könnt. \nEinfach zwischen 16 und 19 Uhr vorbeikommen! \nBitte beachte\, dass sich unsere Workshops vorrangig an unsere Zielgruppe (ca. 12 bis 27- jährige) richten. \n 
URL:https://jugendarbeit-bamberg.de/termine/textildruck-risodruck-2/2029-02-28/
LOCATION:BENZE\, Coburger Str. 45B\, Bamberg\, 96052
CATEGORIES:Begegnung,Kunst,Workshop
ATTACH;FMTTYPE=image/png:https://jugendarbeit-bamberg.de/wp-content/uploads/2025/11/Vorlagen_Workshops_Events_Raeume6.png
ORGANIZER;CN="BENZE":MAILTO:juz.bamberg@iso-ev.de
END:VEVENT
END:VCALENDAR