BEGIN:VCALENDAR
VERSION:2.0
PRODID:-//Jugendarbeit Bamberg - ECPv6.15.17//NONSGML v1.0//EN
CALSCALE:GREGORIAN
METHOD:PUBLISH
X-WR-CALNAME:Jugendarbeit Bamberg
X-ORIGINAL-URL:https://jugendarbeit-bamberg.de
X-WR-CALDESC:Veranstaltungen für Jugendarbeit Bamberg
REFRESH-INTERVAL;VALUE=DURATION:PT1H
X-Robots-Tag:noindex
X-PUBLISHED-TTL:PT1H
BEGIN:VTIMEZONE
TZID:Europe/Berlin
BEGIN:DAYLIGHT
TZOFFSETFROM:+0100
TZOFFSETTO:+0200
TZNAME:CEST
DTSTART:20290325T010000
END:DAYLIGHT
BEGIN:STANDARD
TZOFFSETFROM:+0200
TZOFFSETTO:+0100
TZNAME:CET
DTSTART:20291028T010000
END:STANDARD
BEGIN:DAYLIGHT
TZOFFSETFROM:+0100
TZOFFSETTO:+0200
TZNAME:CEST
DTSTART:20300331T010000
END:DAYLIGHT
BEGIN:STANDARD
TZOFFSETFROM:+0200
TZOFFSETTO:+0100
TZNAME:CET
DTSTART:20301027T010000
END:STANDARD
BEGIN:DAYLIGHT
TZOFFSETFROM:+0100
TZOFFSETTO:+0200
TZNAME:CEST
DTSTART:20310330T010000
END:DAYLIGHT
BEGIN:STANDARD
TZOFFSETFROM:+0200
TZOFFSETTO:+0100
TZNAME:CET
DTSTART:20311026T010000
END:STANDARD
END:VTIMEZONE
BEGIN:VEVENT
DTSTART;TZID=Europe/Berlin:20300501T160000
DTEND;TZID=Europe/Berlin:20300501T190000
DTSTAMP:20260422T204154
CREATED:20251113T113322Z
LAST-MODIFIED:20260410T135049Z
UID:10005139-1903881600-1903892400@jugendarbeit-bamberg.de
SUMMARY:Textildruck & Risodruck
DESCRIPTION:Jeden Mittwoch zeigen euch Rahel und Luz in der Kreativwerkstatt wie ihr Kleidung mit eigenen Motiven bedrucken oder Poster mit einem Risodrucker erstellen könnt. \nEinfach zwischen 16 und 19 Uhr vorbeikommen! \nBitte beachte\, dass sich unsere Workshops vorrangig an unsere Zielgruppe (ca. 12 bis 27- jährige) richten. \n 
URL:https://jugendarbeit-bamberg.de/termine/textildruck-risodruck-2/2030-05-01/
LOCATION:BENZE\, Coburger Str. 45B\, Bamberg\, 96052
CATEGORIES:Begegnung,Kunst,Workshop
ATTACH;FMTTYPE=image/png:https://jugendarbeit-bamberg.de/wp-content/uploads/2025/11/Vorlagen_Workshops_Events_Raeume6.png
ORGANIZER;CN="BENZE":MAILTO:juz.bamberg@iso-ev.de
END:VEVENT
BEGIN:VEVENT
DTSTART;TZID=Europe/Berlin:20300508T160000
DTEND;TZID=Europe/Berlin:20300508T190000
DTSTAMP:20260422T204154
CREATED:20251113T113322Z
LAST-MODIFIED:20260410T135049Z
UID:10005140-1904486400-1904497200@jugendarbeit-bamberg.de
SUMMARY:Textildruck & Risodruck
DESCRIPTION:Jeden Mittwoch zeigen euch Rahel und Luz in der Kreativwerkstatt wie ihr Kleidung mit eigenen Motiven bedrucken oder Poster mit einem Risodrucker erstellen könnt. \nEinfach zwischen 16 und 19 Uhr vorbeikommen! \nBitte beachte\, dass sich unsere Workshops vorrangig an unsere Zielgruppe (ca. 12 bis 27- jährige) richten. \n 
URL:https://jugendarbeit-bamberg.de/termine/textildruck-risodruck-2/2030-05-08/
LOCATION:BENZE\, Coburger Str. 45B\, Bamberg\, 96052
CATEGORIES:Begegnung,Kunst,Workshop
ATTACH;FMTTYPE=image/png:https://jugendarbeit-bamberg.de/wp-content/uploads/2025/11/Vorlagen_Workshops_Events_Raeume6.png
ORGANIZER;CN="BENZE":MAILTO:juz.bamberg@iso-ev.de
END:VEVENT
BEGIN:VEVENT
DTSTART;TZID=Europe/Berlin:20300515T160000
DTEND;TZID=Europe/Berlin:20300515T190000
DTSTAMP:20260422T204154
CREATED:20251113T113322Z
LAST-MODIFIED:20260410T135049Z
UID:10005141-1905091200-1905102000@jugendarbeit-bamberg.de
SUMMARY:Textildruck & Risodruck
DESCRIPTION:Jeden Mittwoch zeigen euch Rahel und Luz in der Kreativwerkstatt wie ihr Kleidung mit eigenen Motiven bedrucken oder Poster mit einem Risodrucker erstellen könnt. \nEinfach zwischen 16 und 19 Uhr vorbeikommen! \nBitte beachte\, dass sich unsere Workshops vorrangig an unsere Zielgruppe (ca. 12 bis 27- jährige) richten. \n 
URL:https://jugendarbeit-bamberg.de/termine/textildruck-risodruck-2/2030-05-15/
LOCATION:BENZE\, Coburger Str. 45B\, Bamberg\, 96052
CATEGORIES:Begegnung,Kunst,Workshop
ATTACH;FMTTYPE=image/png:https://jugendarbeit-bamberg.de/wp-content/uploads/2025/11/Vorlagen_Workshops_Events_Raeume6.png
ORGANIZER;CN="BENZE":MAILTO:juz.bamberg@iso-ev.de
END:VEVENT
BEGIN:VEVENT
DTSTART;TZID=Europe/Berlin:20300522T160000
DTEND;TZID=Europe/Berlin:20300522T190000
DTSTAMP:20260422T204154
CREATED:20251113T113322Z
LAST-MODIFIED:20260410T135049Z
UID:10005142-1905696000-1905706800@jugendarbeit-bamberg.de
SUMMARY:Textildruck & Risodruck
DESCRIPTION:Jeden Mittwoch zeigen euch Rahel und Luz in der Kreativwerkstatt wie ihr Kleidung mit eigenen Motiven bedrucken oder Poster mit einem Risodrucker erstellen könnt. \nEinfach zwischen 16 und 19 Uhr vorbeikommen! \nBitte beachte\, dass sich unsere Workshops vorrangig an unsere Zielgruppe (ca. 12 bis 27- jährige) richten. \n 
URL:https://jugendarbeit-bamberg.de/termine/textildruck-risodruck-2/2030-05-22/
LOCATION:BENZE\, Coburger Str. 45B\, Bamberg\, 96052
CATEGORIES:Begegnung,Kunst,Workshop
ATTACH;FMTTYPE=image/png:https://jugendarbeit-bamberg.de/wp-content/uploads/2025/11/Vorlagen_Workshops_Events_Raeume6.png
ORGANIZER;CN="BENZE":MAILTO:juz.bamberg@iso-ev.de
END:VEVENT
BEGIN:VEVENT
DTSTART;TZID=Europe/Berlin:20300529T160000
DTEND;TZID=Europe/Berlin:20300529T190000
DTSTAMP:20260422T204154
CREATED:20251113T113322Z
LAST-MODIFIED:20260410T135049Z
UID:10005143-1906300800-1906311600@jugendarbeit-bamberg.de
SUMMARY:Textildruck & Risodruck
DESCRIPTION:Jeden Mittwoch zeigen euch Rahel und Luz in der Kreativwerkstatt wie ihr Kleidung mit eigenen Motiven bedrucken oder Poster mit einem Risodrucker erstellen könnt. \nEinfach zwischen 16 und 19 Uhr vorbeikommen! \nBitte beachte\, dass sich unsere Workshops vorrangig an unsere Zielgruppe (ca. 12 bis 27- jährige) richten. \n 
URL:https://jugendarbeit-bamberg.de/termine/textildruck-risodruck-2/2030-05-29/
LOCATION:BENZE\, Coburger Str. 45B\, Bamberg\, 96052
CATEGORIES:Begegnung,Kunst,Workshop
ATTACH;FMTTYPE=image/png:https://jugendarbeit-bamberg.de/wp-content/uploads/2025/11/Vorlagen_Workshops_Events_Raeume6.png
ORGANIZER;CN="BENZE":MAILTO:juz.bamberg@iso-ev.de
END:VEVENT
END:VCALENDAR