BEGIN:VCALENDAR
VERSION:2.0
PRODID:-//Jugendarbeit Bamberg - ECPv6.15.17//NONSGML v1.0//EN
CALSCALE:GREGORIAN
METHOD:PUBLISH
X-ORIGINAL-URL:https://jugendarbeit-bamberg.de
X-WR-CALDESC:Veranstaltungen für Jugendarbeit Bamberg
REFRESH-INTERVAL;VALUE=DURATION:PT1H
X-Robots-Tag:noindex
X-PUBLISHED-TTL:PT1H
BEGIN:VTIMEZONE
TZID:Europe/Berlin
BEGIN:DAYLIGHT
TZOFFSETFROM:+0100
TZOFFSETTO:+0200
TZNAME:CEST
DTSTART:20240331T010000
END:DAYLIGHT
BEGIN:STANDARD
TZOFFSETFROM:+0200
TZOFFSETTO:+0100
TZNAME:CET
DTSTART:20241027T010000
END:STANDARD
BEGIN:DAYLIGHT
TZOFFSETFROM:+0100
TZOFFSETTO:+0200
TZNAME:CEST
DTSTART:20250330T010000
END:DAYLIGHT
BEGIN:STANDARD
TZOFFSETFROM:+0200
TZOFFSETTO:+0100
TZNAME:CET
DTSTART:20251026T010000
END:STANDARD
BEGIN:DAYLIGHT
TZOFFSETFROM:+0100
TZOFFSETTO:+0200
TZNAME:CEST
DTSTART:20260329T010000
END:DAYLIGHT
BEGIN:STANDARD
TZOFFSETFROM:+0200
TZOFFSETTO:+0100
TZNAME:CET
DTSTART:20261025T010000
END:STANDARD
BEGIN:DAYLIGHT
TZOFFSETFROM:+0100
TZOFFSETTO:+0200
TZNAME:CEST
DTSTART:20270328T010000
END:DAYLIGHT
BEGIN:STANDARD
TZOFFSETFROM:+0200
TZOFFSETTO:+0100
TZNAME:CET
DTSTART:20271031T010000
END:STANDARD
END:VTIMEZONE
BEGIN:VEVENT
DTSTART;TZID=Europe/Berlin:20260415T170000
DTEND;TZID=Europe/Berlin:20260415T190000
DTSTAMP:20260421T142930
CREATED:20251113T113342Z
LAST-MODIFIED:20260415T094501Z
UID:10005445-1776272400-1776279600@jugendarbeit-bamberg.de
SUMMARY:Schräg vorwärts
DESCRIPTION:Du möchtest gerne Leute treffen? Du möchtest neues ausprobieren? Du hast noch nicht das richtige Hobby gefunden? \nDie Aktivgruppe des SkF e.V. probiert jede Woche verschiedene Dinge aus- mal sportlich\, mal kreativ\, mal gemütlich.\nDu brauchst keine Vorkenntnisse\, du musst nicht der super Smalltalker sein\, du kannst herausfinden was dir Spaß macht.
URL:https://jugendarbeit-bamberg.de/termine/__trashed-8/2026-04-15/
LOCATION:BENZE\, Coburger Str. 45B\, Bamberg\, 96052
CATEGORIES:Begegnung,Beteiligung,ja:ba ist bunt
ATTACH;FMTTYPE=image/png:https://jugendarbeit-bamberg.de/wp-content/uploads/2024/03/Design-ohne-Titel10.png
ORGANIZER;CN="Sozialdienst Katholischer Frauen e.V.":MAILTO:info@skf-bamberg.de
END:VEVENT
BEGIN:VEVENT
DTSTART;TZID=Europe/Berlin:20260408T170000
DTEND;TZID=Europe/Berlin:20260408T190000
DTSTAMP:20260421T142930
CREATED:20251113T113342Z
LAST-MODIFIED:20260415T094501Z
UID:10005444-1775667600-1775674800@jugendarbeit-bamberg.de
SUMMARY:Schräg vorwärts
DESCRIPTION:Du möchtest gerne Leute treffen? Du möchtest neues ausprobieren? Du hast noch nicht das richtige Hobby gefunden? \nDie Aktivgruppe des SkF e.V. probiert jede Woche verschiedene Dinge aus- mal sportlich\, mal kreativ\, mal gemütlich.\nDu brauchst keine Vorkenntnisse\, du musst nicht der super Smalltalker sein\, du kannst herausfinden was dir Spaß macht.
URL:https://jugendarbeit-bamberg.de/termine/__trashed-8/2026-04-08/
LOCATION:BENZE\, Coburger Str. 45B\, Bamberg\, 96052
CATEGORIES:Begegnung,Beteiligung,ja:ba ist bunt
ATTACH;FMTTYPE=image/png:https://jugendarbeit-bamberg.de/wp-content/uploads/2024/03/Design-ohne-Titel10.png
ORGANIZER;CN="Sozialdienst Katholischer Frauen e.V.":MAILTO:info@skf-bamberg.de
END:VEVENT
BEGIN:VEVENT
DTSTART;TZID=Europe/Berlin:20260401T170000
DTEND;TZID=Europe/Berlin:20260401T190000
DTSTAMP:20260421T142930
CREATED:20251113T113342Z
LAST-MODIFIED:20260415T094501Z
UID:10005443-1775062800-1775070000@jugendarbeit-bamberg.de
SUMMARY:Schräg vorwärts
DESCRIPTION:Du möchtest gerne Leute treffen? Du möchtest neues ausprobieren? Du hast noch nicht das richtige Hobby gefunden? \nDie Aktivgruppe des SkF e.V. probiert jede Woche verschiedene Dinge aus- mal sportlich\, mal kreativ\, mal gemütlich.\nDu brauchst keine Vorkenntnisse\, du musst nicht der super Smalltalker sein\, du kannst herausfinden was dir Spaß macht.
URL:https://jugendarbeit-bamberg.de/termine/__trashed-8/2026-04-01/
LOCATION:BENZE\, Coburger Str. 45B\, Bamberg\, 96052
CATEGORIES:Begegnung,Beteiligung,ja:ba ist bunt
ATTACH;FMTTYPE=image/png:https://jugendarbeit-bamberg.de/wp-content/uploads/2024/03/Design-ohne-Titel10.png
ORGANIZER;CN="Sozialdienst Katholischer Frauen e.V.":MAILTO:info@skf-bamberg.de
END:VEVENT
BEGIN:VEVENT
DTSTART;TZID=Europe/Berlin:20260325T170000
DTEND;TZID=Europe/Berlin:20260325T190000
DTSTAMP:20260421T142930
CREATED:20251113T113342Z
LAST-MODIFIED:20260415T094501Z
UID:10005442-1774458000-1774465200@jugendarbeit-bamberg.de
SUMMARY:Schräg vorwärts
DESCRIPTION:Du möchtest gerne Leute treffen? Du möchtest neues ausprobieren? Du hast noch nicht das richtige Hobby gefunden? \nDie Aktivgruppe des SkF e.V. probiert jede Woche verschiedene Dinge aus- mal sportlich\, mal kreativ\, mal gemütlich.\nDu brauchst keine Vorkenntnisse\, du musst nicht der super Smalltalker sein\, du kannst herausfinden was dir Spaß macht.
URL:https://jugendarbeit-bamberg.de/termine/__trashed-8/2026-03-25/
LOCATION:BENZE\, Coburger Str. 45B\, Bamberg\, 96052
CATEGORIES:Begegnung,Beteiligung,ja:ba ist bunt
ATTACH;FMTTYPE=image/png:https://jugendarbeit-bamberg.de/wp-content/uploads/2024/03/Design-ohne-Titel10.png
ORGANIZER;CN="Sozialdienst Katholischer Frauen e.V.":MAILTO:info@skf-bamberg.de
END:VEVENT
BEGIN:VEVENT
DTSTART;TZID=Europe/Berlin:20260318T170000
DTEND;TZID=Europe/Berlin:20260318T190000
DTSTAMP:20260421T142930
CREATED:20251113T113342Z
LAST-MODIFIED:20260415T094501Z
UID:10005441-1773853200-1773860400@jugendarbeit-bamberg.de
SUMMARY:Schräg vorwärts
DESCRIPTION:Du möchtest gerne Leute treffen? Du möchtest neues ausprobieren? Du hast noch nicht das richtige Hobby gefunden? \nDie Aktivgruppe des SkF e.V. probiert jede Woche verschiedene Dinge aus- mal sportlich\, mal kreativ\, mal gemütlich.\nDu brauchst keine Vorkenntnisse\, du musst nicht der super Smalltalker sein\, du kannst herausfinden was dir Spaß macht.
URL:https://jugendarbeit-bamberg.de/termine/__trashed-8/2026-03-18/
LOCATION:BENZE\, Coburger Str. 45B\, Bamberg\, 96052
CATEGORIES:Begegnung,Beteiligung,ja:ba ist bunt
ATTACH;FMTTYPE=image/png:https://jugendarbeit-bamberg.de/wp-content/uploads/2024/03/Design-ohne-Titel10.png
ORGANIZER;CN="Sozialdienst Katholischer Frauen e.V.":MAILTO:info@skf-bamberg.de
END:VEVENT
BEGIN:VEVENT
DTSTART;TZID=Europe/Berlin:20260311T170000
DTEND;TZID=Europe/Berlin:20260311T190000
DTSTAMP:20260421T142930
CREATED:20251113T113342Z
LAST-MODIFIED:20260415T094501Z
UID:10005440-1773248400-1773255600@jugendarbeit-bamberg.de
SUMMARY:Schräg vorwärts
DESCRIPTION:Du möchtest gerne Leute treffen? Du möchtest neues ausprobieren? Du hast noch nicht das richtige Hobby gefunden? \nDie Aktivgruppe des SkF e.V. probiert jede Woche verschiedene Dinge aus- mal sportlich\, mal kreativ\, mal gemütlich.\nDu brauchst keine Vorkenntnisse\, du musst nicht der super Smalltalker sein\, du kannst herausfinden was dir Spaß macht.
URL:https://jugendarbeit-bamberg.de/termine/__trashed-8/2026-03-11/
LOCATION:BENZE\, Coburger Str. 45B\, Bamberg\, 96052
CATEGORIES:Begegnung,Beteiligung,ja:ba ist bunt
ATTACH;FMTTYPE=image/png:https://jugendarbeit-bamberg.de/wp-content/uploads/2024/03/Design-ohne-Titel10.png
ORGANIZER;CN="Sozialdienst Katholischer Frauen e.V.":MAILTO:info@skf-bamberg.de
END:VEVENT
BEGIN:VEVENT
DTSTART;TZID=Europe/Berlin:20260304T170000
DTEND;TZID=Europe/Berlin:20260304T190000
DTSTAMP:20260421T142930
CREATED:20251113T113342Z
LAST-MODIFIED:20260415T094501Z
UID:10005439-1772643600-1772650800@jugendarbeit-bamberg.de
SUMMARY:Schräg vorwärts
DESCRIPTION:Du möchtest gerne Leute treffen? Du möchtest neues ausprobieren? Du hast noch nicht das richtige Hobby gefunden? \nDie Aktivgruppe des SkF e.V. probiert jede Woche verschiedene Dinge aus- mal sportlich\, mal kreativ\, mal gemütlich.\nDu brauchst keine Vorkenntnisse\, du musst nicht der super Smalltalker sein\, du kannst herausfinden was dir Spaß macht.
URL:https://jugendarbeit-bamberg.de/termine/__trashed-8/2026-03-04/
LOCATION:BENZE\, Coburger Str. 45B\, Bamberg\, 96052
CATEGORIES:Begegnung,Beteiligung,ja:ba ist bunt
ATTACH;FMTTYPE=image/png:https://jugendarbeit-bamberg.de/wp-content/uploads/2024/03/Design-ohne-Titel10.png
ORGANIZER;CN="Sozialdienst Katholischer Frauen e.V.":MAILTO:info@skf-bamberg.de
END:VEVENT
BEGIN:VEVENT
DTSTART;TZID=Europe/Berlin:20260225T170000
DTEND;TZID=Europe/Berlin:20260225T190000
DTSTAMP:20260421T142930
CREATED:20251113T113342Z
LAST-MODIFIED:20260415T094501Z
UID:10005438-1772038800-1772046000@jugendarbeit-bamberg.de
SUMMARY:Schräg vorwärts
DESCRIPTION:Du möchtest gerne Leute treffen? Du möchtest neues ausprobieren? Du hast noch nicht das richtige Hobby gefunden? \nDie Aktivgruppe des SkF e.V. probiert jede Woche verschiedene Dinge aus- mal sportlich\, mal kreativ\, mal gemütlich.\nDu brauchst keine Vorkenntnisse\, du musst nicht der super Smalltalker sein\, du kannst herausfinden was dir Spaß macht.
URL:https://jugendarbeit-bamberg.de/termine/__trashed-8/2026-02-25/
LOCATION:BENZE\, Coburger Str. 45B\, Bamberg\, 96052
CATEGORIES:Begegnung,Beteiligung,ja:ba ist bunt
ATTACH;FMTTYPE=image/png:https://jugendarbeit-bamberg.de/wp-content/uploads/2024/03/Design-ohne-Titel10.png
ORGANIZER;CN="Sozialdienst Katholischer Frauen e.V.":MAILTO:info@skf-bamberg.de
END:VEVENT
BEGIN:VEVENT
DTSTART;TZID=Europe/Berlin:20260218T170000
DTEND;TZID=Europe/Berlin:20260218T190000
DTSTAMP:20260421T142930
CREATED:20251113T113342Z
LAST-MODIFIED:20260415T094501Z
UID:10005437-1771434000-1771441200@jugendarbeit-bamberg.de
SUMMARY:Schräg vorwärts
DESCRIPTION:Du möchtest gerne Leute treffen? Du möchtest neues ausprobieren? Du hast noch nicht das richtige Hobby gefunden? \nDie Aktivgruppe des SkF e.V. probiert jede Woche verschiedene Dinge aus- mal sportlich\, mal kreativ\, mal gemütlich.\nDu brauchst keine Vorkenntnisse\, du musst nicht der super Smalltalker sein\, du kannst herausfinden was dir Spaß macht.
URL:https://jugendarbeit-bamberg.de/termine/__trashed-8/2026-02-18/
LOCATION:BENZE\, Coburger Str. 45B\, Bamberg\, 96052
CATEGORIES:Begegnung,Beteiligung,ja:ba ist bunt
ATTACH;FMTTYPE=image/png:https://jugendarbeit-bamberg.de/wp-content/uploads/2024/03/Design-ohne-Titel10.png
ORGANIZER;CN="Sozialdienst Katholischer Frauen e.V.":MAILTO:info@skf-bamberg.de
END:VEVENT
BEGIN:VEVENT
DTSTART;TZID=Europe/Berlin:20260211T170000
DTEND;TZID=Europe/Berlin:20260211T190000
DTSTAMP:20260421T142930
CREATED:20251113T113342Z
LAST-MODIFIED:20260415T094501Z
UID:10005436-1770829200-1770836400@jugendarbeit-bamberg.de
SUMMARY:Schräg vorwärts
DESCRIPTION:Du möchtest gerne Leute treffen? Du möchtest neues ausprobieren? Du hast noch nicht das richtige Hobby gefunden? \nDie Aktivgruppe des SkF e.V. probiert jede Woche verschiedene Dinge aus- mal sportlich\, mal kreativ\, mal gemütlich.\nDu brauchst keine Vorkenntnisse\, du musst nicht der super Smalltalker sein\, du kannst herausfinden was dir Spaß macht.
URL:https://jugendarbeit-bamberg.de/termine/__trashed-8/2026-02-11/
LOCATION:BENZE\, Coburger Str. 45B\, Bamberg\, 96052
CATEGORIES:Begegnung,Beteiligung,ja:ba ist bunt
ATTACH;FMTTYPE=image/png:https://jugendarbeit-bamberg.de/wp-content/uploads/2024/03/Design-ohne-Titel10.png
ORGANIZER;CN="Sozialdienst Katholischer Frauen e.V.":MAILTO:info@skf-bamberg.de
END:VEVENT
BEGIN:VEVENT
DTSTART;TZID=Europe/Berlin:20260204T170000
DTEND;TZID=Europe/Berlin:20260204T190000
DTSTAMP:20260421T142930
CREATED:20251113T113342Z
LAST-MODIFIED:20260415T094501Z
UID:10005435-1770224400-1770231600@jugendarbeit-bamberg.de
SUMMARY:Schräg vorwärts
DESCRIPTION:Du möchtest gerne Leute treffen? Du möchtest neues ausprobieren? Du hast noch nicht das richtige Hobby gefunden? \nDie Aktivgruppe des SkF e.V. probiert jede Woche verschiedene Dinge aus- mal sportlich\, mal kreativ\, mal gemütlich.\nDu brauchst keine Vorkenntnisse\, du musst nicht der super Smalltalker sein\, du kannst herausfinden was dir Spaß macht.
URL:https://jugendarbeit-bamberg.de/termine/__trashed-8/2026-02-04/
LOCATION:BENZE\, Coburger Str. 45B\, Bamberg\, 96052
CATEGORIES:Begegnung,Beteiligung,ja:ba ist bunt
ATTACH;FMTTYPE=image/png:https://jugendarbeit-bamberg.de/wp-content/uploads/2024/03/Design-ohne-Titel10.png
ORGANIZER;CN="Sozialdienst Katholischer Frauen e.V.":MAILTO:info@skf-bamberg.de
END:VEVENT
BEGIN:VEVENT
DTSTART;TZID=Europe/Berlin:20260128T170000
DTEND;TZID=Europe/Berlin:20260128T190000
DTSTAMP:20260421T142930
CREATED:20251113T113342Z
LAST-MODIFIED:20260415T094501Z
UID:10005434-1769619600-1769626800@jugendarbeit-bamberg.de
SUMMARY:Schräg vorwärts
DESCRIPTION:Du möchtest gerne Leute treffen? Du möchtest neues ausprobieren? Du hast noch nicht das richtige Hobby gefunden? \nDie Aktivgruppe des SkF e.V. probiert jede Woche verschiedene Dinge aus- mal sportlich\, mal kreativ\, mal gemütlich.\nDu brauchst keine Vorkenntnisse\, du musst nicht der super Smalltalker sein\, du kannst herausfinden was dir Spaß macht.
URL:https://jugendarbeit-bamberg.de/termine/__trashed-8/2026-01-28/
LOCATION:BENZE\, Coburger Str. 45B\, Bamberg\, 96052
CATEGORIES:Begegnung,Beteiligung,ja:ba ist bunt
ATTACH;FMTTYPE=image/png:https://jugendarbeit-bamberg.de/wp-content/uploads/2024/03/Design-ohne-Titel10.png
ORGANIZER;CN="Sozialdienst Katholischer Frauen e.V.":MAILTO:info@skf-bamberg.de
END:VEVENT
BEGIN:VEVENT
DTSTART;TZID=Europe/Berlin:20260121T170000
DTEND;TZID=Europe/Berlin:20260121T190000
DTSTAMP:20260421T142930
CREATED:20251113T113342Z
LAST-MODIFIED:20260415T094501Z
UID:10005433-1769014800-1769022000@jugendarbeit-bamberg.de
SUMMARY:Schräg vorwärts
DESCRIPTION:Du möchtest gerne Leute treffen? Du möchtest neues ausprobieren? Du hast noch nicht das richtige Hobby gefunden? \nDie Aktivgruppe des SkF e.V. probiert jede Woche verschiedene Dinge aus- mal sportlich\, mal kreativ\, mal gemütlich.\nDu brauchst keine Vorkenntnisse\, du musst nicht der super Smalltalker sein\, du kannst herausfinden was dir Spaß macht.
URL:https://jugendarbeit-bamberg.de/termine/__trashed-8/2026-01-21/
LOCATION:BENZE\, Coburger Str. 45B\, Bamberg\, 96052
CATEGORIES:Begegnung,Beteiligung,ja:ba ist bunt
ATTACH;FMTTYPE=image/png:https://jugendarbeit-bamberg.de/wp-content/uploads/2024/03/Design-ohne-Titel10.png
ORGANIZER;CN="Sozialdienst Katholischer Frauen e.V.":MAILTO:info@skf-bamberg.de
END:VEVENT
BEGIN:VEVENT
DTSTART;TZID=Europe/Berlin:20260114T170000
DTEND;TZID=Europe/Berlin:20260114T190000
DTSTAMP:20260421T142930
CREATED:20251113T113342Z
LAST-MODIFIED:20260415T094501Z
UID:10005432-1768410000-1768417200@jugendarbeit-bamberg.de
SUMMARY:Schräg vorwärts
DESCRIPTION:Du möchtest gerne Leute treffen? Du möchtest neues ausprobieren? Du hast noch nicht das richtige Hobby gefunden? \nDie Aktivgruppe des SkF e.V. probiert jede Woche verschiedene Dinge aus- mal sportlich\, mal kreativ\, mal gemütlich.\nDu brauchst keine Vorkenntnisse\, du musst nicht der super Smalltalker sein\, du kannst herausfinden was dir Spaß macht.
URL:https://jugendarbeit-bamberg.de/termine/__trashed-8/2026-01-14/
LOCATION:BENZE\, Coburger Str. 45B\, Bamberg\, 96052
CATEGORIES:Begegnung,Beteiligung,ja:ba ist bunt
ATTACH;FMTTYPE=image/png:https://jugendarbeit-bamberg.de/wp-content/uploads/2024/03/Design-ohne-Titel10.png
ORGANIZER;CN="Sozialdienst Katholischer Frauen e.V.":MAILTO:info@skf-bamberg.de
END:VEVENT
BEGIN:VEVENT
DTSTART;TZID=Europe/Berlin:20260107T170000
DTEND;TZID=Europe/Berlin:20260107T190000
DTSTAMP:20260421T142930
CREATED:20251113T113342Z
LAST-MODIFIED:20260415T094501Z
UID:10005431-1767805200-1767812400@jugendarbeit-bamberg.de
SUMMARY:Schräg vorwärts
DESCRIPTION:Du möchtest gerne Leute treffen? Du möchtest neues ausprobieren? Du hast noch nicht das richtige Hobby gefunden? \nDie Aktivgruppe des SkF e.V. probiert jede Woche verschiedene Dinge aus- mal sportlich\, mal kreativ\, mal gemütlich.\nDu brauchst keine Vorkenntnisse\, du musst nicht der super Smalltalker sein\, du kannst herausfinden was dir Spaß macht.
URL:https://jugendarbeit-bamberg.de/termine/__trashed-8/2026-01-07/
LOCATION:BENZE\, Coburger Str. 45B\, Bamberg\, 96052
CATEGORIES:Begegnung,Beteiligung,ja:ba ist bunt
ATTACH;FMTTYPE=image/png:https://jugendarbeit-bamberg.de/wp-content/uploads/2024/03/Design-ohne-Titel10.png
ORGANIZER;CN="Sozialdienst Katholischer Frauen e.V.":MAILTO:info@skf-bamberg.de
END:VEVENT
BEGIN:VEVENT
DTSTART;TZID=Europe/Berlin:20251217T170000
DTEND;TZID=Europe/Berlin:20251217T190000
DTSTAMP:20260421T142930
CREATED:20251113T113342Z
LAST-MODIFIED:20260415T094501Z
UID:10005430-1765990800-1765998000@jugendarbeit-bamberg.de
SUMMARY:Schräg vorwärts
DESCRIPTION:Du möchtest gerne Leute treffen? Du möchtest neues ausprobieren? Du hast noch nicht das richtige Hobby gefunden? \nDie Aktivgruppe des SkF e.V. probiert jede Woche verschiedene Dinge aus- mal sportlich\, mal kreativ\, mal gemütlich.\nDu brauchst keine Vorkenntnisse\, du musst nicht der super Smalltalker sein\, du kannst herausfinden was dir Spaß macht.
URL:https://jugendarbeit-bamberg.de/termine/__trashed-8/2025-12-17/
LOCATION:BENZE\, Coburger Str. 45B\, Bamberg\, 96052
CATEGORIES:Begegnung,Beteiligung,ja:ba ist bunt
ATTACH;FMTTYPE=image/png:https://jugendarbeit-bamberg.de/wp-content/uploads/2024/03/Design-ohne-Titel10.png
ORGANIZER;CN="Sozialdienst Katholischer Frauen e.V.":MAILTO:info@skf-bamberg.de
END:VEVENT
BEGIN:VEVENT
DTSTART;TZID=Europe/Berlin:20251210T170000
DTEND;TZID=Europe/Berlin:20251210T190000
DTSTAMP:20260421T142930
CREATED:20251113T113342Z
LAST-MODIFIED:20260415T094501Z
UID:10005429-1765386000-1765393200@jugendarbeit-bamberg.de
SUMMARY:Schräg vorwärts
DESCRIPTION:Du möchtest gerne Leute treffen? Du möchtest neues ausprobieren? Du hast noch nicht das richtige Hobby gefunden? \nDie Aktivgruppe des SkF e.V. probiert jede Woche verschiedene Dinge aus- mal sportlich\, mal kreativ\, mal gemütlich.\nDu brauchst keine Vorkenntnisse\, du musst nicht der super Smalltalker sein\, du kannst herausfinden was dir Spaß macht.
URL:https://jugendarbeit-bamberg.de/termine/__trashed-8/2025-12-10/
LOCATION:BENZE\, Coburger Str. 45B\, Bamberg\, 96052
CATEGORIES:Begegnung,Beteiligung,ja:ba ist bunt
ATTACH;FMTTYPE=image/png:https://jugendarbeit-bamberg.de/wp-content/uploads/2024/03/Design-ohne-Titel10.png
ORGANIZER;CN="Sozialdienst Katholischer Frauen e.V.":MAILTO:info@skf-bamberg.de
END:VEVENT
BEGIN:VEVENT
DTSTART;TZID=Europe/Berlin:20251203T170000
DTEND;TZID=Europe/Berlin:20251203T190000
DTSTAMP:20260421T142930
CREATED:20251113T113342Z
LAST-MODIFIED:20260415T094501Z
UID:10005428-1764781200-1764788400@jugendarbeit-bamberg.de
SUMMARY:Schräg vorwärts
DESCRIPTION:Du möchtest gerne Leute treffen? Du möchtest neues ausprobieren? Du hast noch nicht das richtige Hobby gefunden? \nDie Aktivgruppe des SkF e.V. probiert jede Woche verschiedene Dinge aus- mal sportlich\, mal kreativ\, mal gemütlich.\nDu brauchst keine Vorkenntnisse\, du musst nicht der super Smalltalker sein\, du kannst herausfinden was dir Spaß macht.
URL:https://jugendarbeit-bamberg.de/termine/__trashed-8/2025-12-03/
LOCATION:BENZE\, Coburger Str. 45B\, Bamberg\, 96052
CATEGORIES:Begegnung,Beteiligung,ja:ba ist bunt
ATTACH;FMTTYPE=image/png:https://jugendarbeit-bamberg.de/wp-content/uploads/2024/03/Design-ohne-Titel10.png
ORGANIZER;CN="Sozialdienst Katholischer Frauen e.V.":MAILTO:info@skf-bamberg.de
END:VEVENT
BEGIN:VEVENT
DTSTART;TZID=Europe/Berlin:20251126T170000
DTEND;TZID=Europe/Berlin:20251126T190000
DTSTAMP:20260421T142930
CREATED:20251113T113342Z
LAST-MODIFIED:20260415T094501Z
UID:10005427-1764176400-1764183600@jugendarbeit-bamberg.de
SUMMARY:Schräg vorwärts
DESCRIPTION:Du möchtest gerne Leute treffen? Du möchtest neues ausprobieren? Du hast noch nicht das richtige Hobby gefunden? \nDie Aktivgruppe des SkF e.V. probiert jede Woche verschiedene Dinge aus- mal sportlich\, mal kreativ\, mal gemütlich.\nDu brauchst keine Vorkenntnisse\, du musst nicht der super Smalltalker sein\, du kannst herausfinden was dir Spaß macht.
URL:https://jugendarbeit-bamberg.de/termine/__trashed-8/2025-11-26/
LOCATION:BENZE\, Coburger Str. 45B\, Bamberg\, 96052
CATEGORIES:Begegnung,Beteiligung,ja:ba ist bunt
ATTACH;FMTTYPE=image/png:https://jugendarbeit-bamberg.de/wp-content/uploads/2024/03/Design-ohne-Titel10.png
ORGANIZER;CN="Sozialdienst Katholischer Frauen e.V.":MAILTO:info@skf-bamberg.de
END:VEVENT
BEGIN:VEVENT
DTSTART;TZID=Europe/Berlin:20251119T170000
DTEND;TZID=Europe/Berlin:20251119T190000
DTSTAMP:20260421T142930
CREATED:20251113T113342Z
LAST-MODIFIED:20260415T094501Z
UID:10005426-1763571600-1763578800@jugendarbeit-bamberg.de
SUMMARY:Schräg vorwärts
DESCRIPTION:Du möchtest gerne Leute treffen? Du möchtest neues ausprobieren? Du hast noch nicht das richtige Hobby gefunden? \nDie Aktivgruppe des SkF e.V. probiert jede Woche verschiedene Dinge aus- mal sportlich\, mal kreativ\, mal gemütlich.\nDu brauchst keine Vorkenntnisse\, du musst nicht der super Smalltalker sein\, du kannst herausfinden was dir Spaß macht.
URL:https://jugendarbeit-bamberg.de/termine/__trashed-8/2025-11-19/
LOCATION:BENZE\, Coburger Str. 45B\, Bamberg\, 96052
CATEGORIES:Begegnung,Beteiligung,ja:ba ist bunt
ATTACH;FMTTYPE=image/png:https://jugendarbeit-bamberg.de/wp-content/uploads/2024/03/Design-ohne-Titel10.png
ORGANIZER;CN="Sozialdienst Katholischer Frauen e.V.":MAILTO:info@skf-bamberg.de
END:VEVENT
END:VCALENDAR