BEGIN:VCALENDAR
VERSION:2.0
PRODID:-//Jugendarbeit Bamberg - ECPv6.15.17//NONSGML v1.0//EN
CALSCALE:GREGORIAN
METHOD:PUBLISH
X-WR-CALNAME:Jugendarbeit Bamberg
X-ORIGINAL-URL:https://jugendarbeit-bamberg.de
X-WR-CALDESC:Veranstaltungen für Jugendarbeit Bamberg
REFRESH-INTERVAL;VALUE=DURATION:PT1H
X-Robots-Tag:noindex
X-PUBLISHED-TTL:PT1H
BEGIN:VTIMEZONE
TZID:Europe/Berlin
BEGIN:DAYLIGHT
TZOFFSETFROM:+0100
TZOFFSETTO:+0200
TZNAME:CEST
DTSTART:20240331T010000
END:DAYLIGHT
BEGIN:STANDARD
TZOFFSETFROM:+0200
TZOFFSETTO:+0100
TZNAME:CET
DTSTART:20241027T010000
END:STANDARD
BEGIN:DAYLIGHT
TZOFFSETFROM:+0100
TZOFFSETTO:+0200
TZNAME:CEST
DTSTART:20250330T010000
END:DAYLIGHT
BEGIN:STANDARD
TZOFFSETFROM:+0200
TZOFFSETTO:+0100
TZNAME:CET
DTSTART:20251026T010000
END:STANDARD
BEGIN:DAYLIGHT
TZOFFSETFROM:+0100
TZOFFSETTO:+0200
TZNAME:CEST
DTSTART:20260329T010000
END:DAYLIGHT
BEGIN:STANDARD
TZOFFSETFROM:+0200
TZOFFSETTO:+0100
TZNAME:CET
DTSTART:20261025T010000
END:STANDARD
END:VTIMEZONE
BEGIN:VEVENT
DTSTART;TZID=Europe/Berlin:20251210T170000
DTEND;TZID=Europe/Berlin:20251210T190000
DTSTAMP:20260421T174613
CREATED:20251113T113342Z
LAST-MODIFIED:20260415T094501Z
UID:10005429-1765386000-1765393200@jugendarbeit-bamberg.de
SUMMARY:Schräg vorwärts
DESCRIPTION:Du möchtest gerne Leute treffen? Du möchtest neues ausprobieren? Du hast noch nicht das richtige Hobby gefunden? \nDie Aktivgruppe des SkF e.V. probiert jede Woche verschiedene Dinge aus- mal sportlich\, mal kreativ\, mal gemütlich.\nDu brauchst keine Vorkenntnisse\, du musst nicht der super Smalltalker sein\, du kannst herausfinden was dir Spaß macht.
URL:https://jugendarbeit-bamberg.de/termine/__trashed-8/2025-12-10/
LOCATION:BENZE\, Coburger Str. 45B\, Bamberg\, 96052
CATEGORIES:Begegnung,Beteiligung,ja:ba ist bunt
ATTACH;FMTTYPE=image/png:https://jugendarbeit-bamberg.de/wp-content/uploads/2024/03/Design-ohne-Titel10.png
ORGANIZER;CN="Sozialdienst Katholischer Frauen e.V.":MAILTO:info@skf-bamberg.de
END:VEVENT
BEGIN:VEVENT
DTSTART;TZID=Europe/Berlin:20251203T170000
DTEND;TZID=Europe/Berlin:20251203T190000
DTSTAMP:20260421T174613
CREATED:20251113T113342Z
LAST-MODIFIED:20260415T094501Z
UID:10005428-1764781200-1764788400@jugendarbeit-bamberg.de
SUMMARY:Schräg vorwärts
DESCRIPTION:Du möchtest gerne Leute treffen? Du möchtest neues ausprobieren? Du hast noch nicht das richtige Hobby gefunden? \nDie Aktivgruppe des SkF e.V. probiert jede Woche verschiedene Dinge aus- mal sportlich\, mal kreativ\, mal gemütlich.\nDu brauchst keine Vorkenntnisse\, du musst nicht der super Smalltalker sein\, du kannst herausfinden was dir Spaß macht.
URL:https://jugendarbeit-bamberg.de/termine/__trashed-8/2025-12-03/
LOCATION:BENZE\, Coburger Str. 45B\, Bamberg\, 96052
CATEGORIES:Begegnung,Beteiligung,ja:ba ist bunt
ATTACH;FMTTYPE=image/png:https://jugendarbeit-bamberg.de/wp-content/uploads/2024/03/Design-ohne-Titel10.png
ORGANIZER;CN="Sozialdienst Katholischer Frauen e.V.":MAILTO:info@skf-bamberg.de
END:VEVENT
BEGIN:VEVENT
DTSTART;TZID=Europe/Berlin:20251126T170000
DTEND;TZID=Europe/Berlin:20251126T190000
DTSTAMP:20260421T174613
CREATED:20251113T113342Z
LAST-MODIFIED:20260415T094501Z
UID:10005427-1764176400-1764183600@jugendarbeit-bamberg.de
SUMMARY:Schräg vorwärts
DESCRIPTION:Du möchtest gerne Leute treffen? Du möchtest neues ausprobieren? Du hast noch nicht das richtige Hobby gefunden? \nDie Aktivgruppe des SkF e.V. probiert jede Woche verschiedene Dinge aus- mal sportlich\, mal kreativ\, mal gemütlich.\nDu brauchst keine Vorkenntnisse\, du musst nicht der super Smalltalker sein\, du kannst herausfinden was dir Spaß macht.
URL:https://jugendarbeit-bamberg.de/termine/__trashed-8/2025-11-26/
LOCATION:BENZE\, Coburger Str. 45B\, Bamberg\, 96052
CATEGORIES:Begegnung,Beteiligung,ja:ba ist bunt
ATTACH;FMTTYPE=image/png:https://jugendarbeit-bamberg.de/wp-content/uploads/2024/03/Design-ohne-Titel10.png
ORGANIZER;CN="Sozialdienst Katholischer Frauen e.V.":MAILTO:info@skf-bamberg.de
END:VEVENT
BEGIN:VEVENT
DTSTART;TZID=Europe/Berlin:20251119T170000
DTEND;TZID=Europe/Berlin:20251119T190000
DTSTAMP:20260421T174613
CREATED:20251113T113342Z
LAST-MODIFIED:20260415T094501Z
UID:10005426-1763571600-1763578800@jugendarbeit-bamberg.de
SUMMARY:Schräg vorwärts
DESCRIPTION:Du möchtest gerne Leute treffen? Du möchtest neues ausprobieren? Du hast noch nicht das richtige Hobby gefunden? \nDie Aktivgruppe des SkF e.V. probiert jede Woche verschiedene Dinge aus- mal sportlich\, mal kreativ\, mal gemütlich.\nDu brauchst keine Vorkenntnisse\, du musst nicht der super Smalltalker sein\, du kannst herausfinden was dir Spaß macht.
URL:https://jugendarbeit-bamberg.de/termine/__trashed-8/2025-11-19/
LOCATION:BENZE\, Coburger Str. 45B\, Bamberg\, 96052
CATEGORIES:Begegnung,Beteiligung,ja:ba ist bunt
ATTACH;FMTTYPE=image/png:https://jugendarbeit-bamberg.de/wp-content/uploads/2024/03/Design-ohne-Titel10.png
ORGANIZER;CN="Sozialdienst Katholischer Frauen e.V.":MAILTO:info@skf-bamberg.de
END:VEVENT
END:VCALENDAR