BEGIN:VCALENDAR
VERSION:2.0
PRODID:-//Jugendarbeit Bamberg - ECPv6.15.17//NONSGML v1.0//EN
CALSCALE:GREGORIAN
METHOD:PUBLISH
X-ORIGINAL-URL:https://jugendarbeit-bamberg.de
X-WR-CALDESC:Veranstaltungen für Jugendarbeit Bamberg
REFRESH-INTERVAL;VALUE=DURATION:PT1H
X-Robots-Tag:noindex
X-PUBLISHED-TTL:PT1H
BEGIN:VTIMEZONE
TZID:Europe/Berlin
BEGIN:DAYLIGHT
TZOFFSETFROM:+0100
TZOFFSETTO:+0200
TZNAME:CEST
DTSTART:20300331T010000
END:DAYLIGHT
BEGIN:STANDARD
TZOFFSETFROM:+0200
TZOFFSETTO:+0100
TZNAME:CET
DTSTART:20301027T010000
END:STANDARD
BEGIN:DAYLIGHT
TZOFFSETFROM:+0100
TZOFFSETTO:+0200
TZNAME:CEST
DTSTART:20310330T010000
END:DAYLIGHT
BEGIN:STANDARD
TZOFFSETFROM:+0200
TZOFFSETTO:+0100
TZNAME:CET
DTSTART:20311026T010000
END:STANDARD
BEGIN:DAYLIGHT
TZOFFSETFROM:+0100
TZOFFSETTO:+0200
TZNAME:CEST
DTSTART:20320328T010000
END:DAYLIGHT
BEGIN:STANDARD
TZOFFSETFROM:+0200
TZOFFSETTO:+0100
TZNAME:CET
DTSTART:20321031T010000
END:STANDARD
END:VTIMEZONE
BEGIN:VEVENT
DTSTART;TZID=Europe/Berlin:20310129T170000
DTEND;TZID=Europe/Berlin:20310129T190000
DTSTAMP:20260423T182858
CREATED:20251113T113342Z
LAST-MODIFIED:20260415T094501Z
UID:10007062-1927472400-1927479600@jugendarbeit-bamberg.de
SUMMARY:Schräg vorwärts
DESCRIPTION:Du möchtest gerne Leute treffen? Du möchtest neues ausprobieren? Du hast noch nicht das richtige Hobby gefunden? \nDie Aktivgruppe des SkF e.V. probiert jede Woche verschiedene Dinge aus- mal sportlich\, mal kreativ\, mal gemütlich.\nDu brauchst keine Vorkenntnisse\, du musst nicht der super Smalltalker sein\, du kannst herausfinden was dir Spaß macht.
URL:https://jugendarbeit-bamberg.de/termine/__trashed-8/2031-01-29/
LOCATION:BENZE\, Coburger Str. 45B\, Bamberg\, 96052
CATEGORIES:Begegnung,Beteiligung,ja:ba ist bunt
ATTACH;FMTTYPE=image/png:https://jugendarbeit-bamberg.de/wp-content/uploads/2024/03/Design-ohne-Titel10.png
ORGANIZER;CN="Sozialdienst Katholischer Frauen e.V.":MAILTO:info@skf-bamberg.de
END:VEVENT
BEGIN:VEVENT
DTSTART;TZID=Europe/Berlin:20310205T170000
DTEND;TZID=Europe/Berlin:20310205T190000
DTSTAMP:20260423T182858
CREATED:20251113T113342Z
LAST-MODIFIED:20260415T094501Z
UID:10007063-1928077200-1928084400@jugendarbeit-bamberg.de
SUMMARY:Schräg vorwärts
DESCRIPTION:Du möchtest gerne Leute treffen? Du möchtest neues ausprobieren? Du hast noch nicht das richtige Hobby gefunden? \nDie Aktivgruppe des SkF e.V. probiert jede Woche verschiedene Dinge aus- mal sportlich\, mal kreativ\, mal gemütlich.\nDu brauchst keine Vorkenntnisse\, du musst nicht der super Smalltalker sein\, du kannst herausfinden was dir Spaß macht.
URL:https://jugendarbeit-bamberg.de/termine/__trashed-8/2031-02-05/
LOCATION:BENZE\, Coburger Str. 45B\, Bamberg\, 96052
CATEGORIES:Begegnung,Beteiligung,ja:ba ist bunt
ATTACH;FMTTYPE=image/png:https://jugendarbeit-bamberg.de/wp-content/uploads/2024/03/Design-ohne-Titel10.png
ORGANIZER;CN="Sozialdienst Katholischer Frauen e.V.":MAILTO:info@skf-bamberg.de
END:VEVENT
BEGIN:VEVENT
DTSTART;TZID=Europe/Berlin:20310212T170000
DTEND;TZID=Europe/Berlin:20310212T190000
DTSTAMP:20260423T182858
CREATED:20251113T113342Z
LAST-MODIFIED:20260415T094501Z
UID:10007064-1928682000-1928689200@jugendarbeit-bamberg.de
SUMMARY:Schräg vorwärts
DESCRIPTION:Du möchtest gerne Leute treffen? Du möchtest neues ausprobieren? Du hast noch nicht das richtige Hobby gefunden? \nDie Aktivgruppe des SkF e.V. probiert jede Woche verschiedene Dinge aus- mal sportlich\, mal kreativ\, mal gemütlich.\nDu brauchst keine Vorkenntnisse\, du musst nicht der super Smalltalker sein\, du kannst herausfinden was dir Spaß macht.
URL:https://jugendarbeit-bamberg.de/termine/__trashed-8/2031-02-12/
LOCATION:BENZE\, Coburger Str. 45B\, Bamberg\, 96052
CATEGORIES:Begegnung,Beteiligung,ja:ba ist bunt
ATTACH;FMTTYPE=image/png:https://jugendarbeit-bamberg.de/wp-content/uploads/2024/03/Design-ohne-Titel10.png
ORGANIZER;CN="Sozialdienst Katholischer Frauen e.V.":MAILTO:info@skf-bamberg.de
END:VEVENT
BEGIN:VEVENT
DTSTART;TZID=Europe/Berlin:20310219T170000
DTEND;TZID=Europe/Berlin:20310219T190000
DTSTAMP:20260423T182858
CREATED:20251113T113342Z
LAST-MODIFIED:20260415T094501Z
UID:10007065-1929286800-1929294000@jugendarbeit-bamberg.de
SUMMARY:Schräg vorwärts
DESCRIPTION:Du möchtest gerne Leute treffen? Du möchtest neues ausprobieren? Du hast noch nicht das richtige Hobby gefunden? \nDie Aktivgruppe des SkF e.V. probiert jede Woche verschiedene Dinge aus- mal sportlich\, mal kreativ\, mal gemütlich.\nDu brauchst keine Vorkenntnisse\, du musst nicht der super Smalltalker sein\, du kannst herausfinden was dir Spaß macht.
URL:https://jugendarbeit-bamberg.de/termine/__trashed-8/2031-02-19/
LOCATION:BENZE\, Coburger Str. 45B\, Bamberg\, 96052
CATEGORIES:Begegnung,Beteiligung,ja:ba ist bunt
ATTACH;FMTTYPE=image/png:https://jugendarbeit-bamberg.de/wp-content/uploads/2024/03/Design-ohne-Titel10.png
ORGANIZER;CN="Sozialdienst Katholischer Frauen e.V.":MAILTO:info@skf-bamberg.de
END:VEVENT
BEGIN:VEVENT
DTSTART;TZID=Europe/Berlin:20310226T170000
DTEND;TZID=Europe/Berlin:20310226T190000
DTSTAMP:20260423T182858
CREATED:20251113T113342Z
LAST-MODIFIED:20260415T094501Z
UID:10007066-1929891600-1929898800@jugendarbeit-bamberg.de
SUMMARY:Schräg vorwärts
DESCRIPTION:Du möchtest gerne Leute treffen? Du möchtest neues ausprobieren? Du hast noch nicht das richtige Hobby gefunden? \nDie Aktivgruppe des SkF e.V. probiert jede Woche verschiedene Dinge aus- mal sportlich\, mal kreativ\, mal gemütlich.\nDu brauchst keine Vorkenntnisse\, du musst nicht der super Smalltalker sein\, du kannst herausfinden was dir Spaß macht.
URL:https://jugendarbeit-bamberg.de/termine/__trashed-8/2031-02-26/
LOCATION:BENZE\, Coburger Str. 45B\, Bamberg\, 96052
CATEGORIES:Begegnung,Beteiligung,ja:ba ist bunt
ATTACH;FMTTYPE=image/png:https://jugendarbeit-bamberg.de/wp-content/uploads/2024/03/Design-ohne-Titel10.png
ORGANIZER;CN="Sozialdienst Katholischer Frauen e.V.":MAILTO:info@skf-bamberg.de
END:VEVENT
BEGIN:VEVENT
DTSTART;TZID=Europe/Berlin:20310305T170000
DTEND;TZID=Europe/Berlin:20310305T190000
DTSTAMP:20260423T182858
CREATED:20251113T113342Z
LAST-MODIFIED:20260415T094501Z
UID:10007067-1930496400-1930503600@jugendarbeit-bamberg.de
SUMMARY:Schräg vorwärts
DESCRIPTION:Du möchtest gerne Leute treffen? Du möchtest neues ausprobieren? Du hast noch nicht das richtige Hobby gefunden? \nDie Aktivgruppe des SkF e.V. probiert jede Woche verschiedene Dinge aus- mal sportlich\, mal kreativ\, mal gemütlich.\nDu brauchst keine Vorkenntnisse\, du musst nicht der super Smalltalker sein\, du kannst herausfinden was dir Spaß macht.
URL:https://jugendarbeit-bamberg.de/termine/__trashed-8/2031-03-05/
LOCATION:BENZE\, Coburger Str. 45B\, Bamberg\, 96052
CATEGORIES:Begegnung,Beteiligung,ja:ba ist bunt
ATTACH;FMTTYPE=image/png:https://jugendarbeit-bamberg.de/wp-content/uploads/2024/03/Design-ohne-Titel10.png
ORGANIZER;CN="Sozialdienst Katholischer Frauen e.V.":MAILTO:info@skf-bamberg.de
END:VEVENT
BEGIN:VEVENT
DTSTART;TZID=Europe/Berlin:20310312T170000
DTEND;TZID=Europe/Berlin:20310312T190000
DTSTAMP:20260423T182858
CREATED:20251113T113342Z
LAST-MODIFIED:20260415T094501Z
UID:10007068-1931101200-1931108400@jugendarbeit-bamberg.de
SUMMARY:Schräg vorwärts
DESCRIPTION:Du möchtest gerne Leute treffen? Du möchtest neues ausprobieren? Du hast noch nicht das richtige Hobby gefunden? \nDie Aktivgruppe des SkF e.V. probiert jede Woche verschiedene Dinge aus- mal sportlich\, mal kreativ\, mal gemütlich.\nDu brauchst keine Vorkenntnisse\, du musst nicht der super Smalltalker sein\, du kannst herausfinden was dir Spaß macht.
URL:https://jugendarbeit-bamberg.de/termine/__trashed-8/2031-03-12/
LOCATION:BENZE\, Coburger Str. 45B\, Bamberg\, 96052
CATEGORIES:Begegnung,Beteiligung,ja:ba ist bunt
ATTACH;FMTTYPE=image/png:https://jugendarbeit-bamberg.de/wp-content/uploads/2024/03/Design-ohne-Titel10.png
ORGANIZER;CN="Sozialdienst Katholischer Frauen e.V.":MAILTO:info@skf-bamberg.de
END:VEVENT
BEGIN:VEVENT
DTSTART;TZID=Europe/Berlin:20310319T170000
DTEND;TZID=Europe/Berlin:20310319T190000
DTSTAMP:20260423T182858
CREATED:20251113T113342Z
LAST-MODIFIED:20260415T094501Z
UID:10007069-1931706000-1931713200@jugendarbeit-bamberg.de
SUMMARY:Schräg vorwärts
DESCRIPTION:Du möchtest gerne Leute treffen? Du möchtest neues ausprobieren? Du hast noch nicht das richtige Hobby gefunden? \nDie Aktivgruppe des SkF e.V. probiert jede Woche verschiedene Dinge aus- mal sportlich\, mal kreativ\, mal gemütlich.\nDu brauchst keine Vorkenntnisse\, du musst nicht der super Smalltalker sein\, du kannst herausfinden was dir Spaß macht.
URL:https://jugendarbeit-bamberg.de/termine/__trashed-8/2031-03-19/
LOCATION:BENZE\, Coburger Str. 45B\, Bamberg\, 96052
CATEGORIES:Begegnung,Beteiligung,ja:ba ist bunt
ATTACH;FMTTYPE=image/png:https://jugendarbeit-bamberg.de/wp-content/uploads/2024/03/Design-ohne-Titel10.png
ORGANIZER;CN="Sozialdienst Katholischer Frauen e.V.":MAILTO:info@skf-bamberg.de
END:VEVENT
BEGIN:VEVENT
DTSTART;TZID=Europe/Berlin:20310326T170000
DTEND;TZID=Europe/Berlin:20310326T190000
DTSTAMP:20260423T182858
CREATED:20251113T113342Z
LAST-MODIFIED:20260415T094501Z
UID:10007070-1932310800-1932318000@jugendarbeit-bamberg.de
SUMMARY:Schräg vorwärts
DESCRIPTION:Du möchtest gerne Leute treffen? Du möchtest neues ausprobieren? Du hast noch nicht das richtige Hobby gefunden? \nDie Aktivgruppe des SkF e.V. probiert jede Woche verschiedene Dinge aus- mal sportlich\, mal kreativ\, mal gemütlich.\nDu brauchst keine Vorkenntnisse\, du musst nicht der super Smalltalker sein\, du kannst herausfinden was dir Spaß macht.
URL:https://jugendarbeit-bamberg.de/termine/__trashed-8/2031-03-26/
LOCATION:BENZE\, Coburger Str. 45B\, Bamberg\, 96052
CATEGORIES:Begegnung,Beteiligung,ja:ba ist bunt
ATTACH;FMTTYPE=image/png:https://jugendarbeit-bamberg.de/wp-content/uploads/2024/03/Design-ohne-Titel10.png
ORGANIZER;CN="Sozialdienst Katholischer Frauen e.V.":MAILTO:info@skf-bamberg.de
END:VEVENT
BEGIN:VEVENT
DTSTART;TZID=Europe/Berlin:20310402T170000
DTEND;TZID=Europe/Berlin:20310402T190000
DTSTAMP:20260423T182858
CREATED:20251113T113342Z
LAST-MODIFIED:20260415T094501Z
UID:10007080-1932915600-1932922800@jugendarbeit-bamberg.de
SUMMARY:Schräg vorwärts
DESCRIPTION:Du möchtest gerne Leute treffen? Du möchtest neues ausprobieren? Du hast noch nicht das richtige Hobby gefunden? \nDie Aktivgruppe des SkF e.V. probiert jede Woche verschiedene Dinge aus- mal sportlich\, mal kreativ\, mal gemütlich.\nDu brauchst keine Vorkenntnisse\, du musst nicht der super Smalltalker sein\, du kannst herausfinden was dir Spaß macht.
URL:https://jugendarbeit-bamberg.de/termine/__trashed-8/2031-04-02/
LOCATION:BENZE\, Coburger Str. 45B\, Bamberg\, 96052
CATEGORIES:Begegnung,Beteiligung,ja:ba ist bunt
ATTACH;FMTTYPE=image/png:https://jugendarbeit-bamberg.de/wp-content/uploads/2024/03/Design-ohne-Titel10.png
ORGANIZER;CN="Sozialdienst Katholischer Frauen e.V.":MAILTO:info@skf-bamberg.de
END:VEVENT
BEGIN:VEVENT
DTSTART;TZID=Europe/Berlin:20310409T170000
DTEND;TZID=Europe/Berlin:20310409T190000
DTSTAMP:20260423T182858
CREATED:20251113T113342Z
LAST-MODIFIED:20260415T094501Z
UID:10007081-1933520400-1933527600@jugendarbeit-bamberg.de
SUMMARY:Schräg vorwärts
DESCRIPTION:Du möchtest gerne Leute treffen? Du möchtest neues ausprobieren? Du hast noch nicht das richtige Hobby gefunden? \nDie Aktivgruppe des SkF e.V. probiert jede Woche verschiedene Dinge aus- mal sportlich\, mal kreativ\, mal gemütlich.\nDu brauchst keine Vorkenntnisse\, du musst nicht der super Smalltalker sein\, du kannst herausfinden was dir Spaß macht.
URL:https://jugendarbeit-bamberg.de/termine/__trashed-8/2031-04-09/
LOCATION:BENZE\, Coburger Str. 45B\, Bamberg\, 96052
CATEGORIES:Begegnung,Beteiligung,ja:ba ist bunt
ATTACH;FMTTYPE=image/png:https://jugendarbeit-bamberg.de/wp-content/uploads/2024/03/Design-ohne-Titel10.png
ORGANIZER;CN="Sozialdienst Katholischer Frauen e.V.":MAILTO:info@skf-bamberg.de
END:VEVENT
END:VCALENDAR