BEGIN:VCALENDAR
VERSION:2.0
PRODID:-//Jugendarbeit Bamberg - ECPv6.15.17//NONSGML v1.0//EN
CALSCALE:GREGORIAN
METHOD:PUBLISH
X-WR-CALNAME:Jugendarbeit Bamberg
X-ORIGINAL-URL:https://jugendarbeit-bamberg.de
X-WR-CALDESC:Veranstaltungen für Jugendarbeit Bamberg
REFRESH-INTERVAL;VALUE=DURATION:PT1H
X-Robots-Tag:noindex
X-PUBLISHED-TTL:PT1H
BEGIN:VTIMEZONE
TZID:Europe/Berlin
BEGIN:DAYLIGHT
TZOFFSETFROM:+0100
TZOFFSETTO:+0200
TZNAME:CEST
DTSTART:20240331T010000
END:DAYLIGHT
BEGIN:STANDARD
TZOFFSETFROM:+0200
TZOFFSETTO:+0100
TZNAME:CET
DTSTART:20241027T010000
END:STANDARD
BEGIN:DAYLIGHT
TZOFFSETFROM:+0100
TZOFFSETTO:+0200
TZNAME:CEST
DTSTART:20250330T010000
END:DAYLIGHT
BEGIN:STANDARD
TZOFFSETFROM:+0200
TZOFFSETTO:+0100
TZNAME:CET
DTSTART:20251026T010000
END:STANDARD
BEGIN:DAYLIGHT
TZOFFSETFROM:+0100
TZOFFSETTO:+0200
TZNAME:CEST
DTSTART:20260329T010000
END:DAYLIGHT
BEGIN:STANDARD
TZOFFSETFROM:+0200
TZOFFSETTO:+0100
TZNAME:CET
DTSTART:20261025T010000
END:STANDARD
END:VTIMEZONE
BEGIN:VEVENT
DTSTART;TZID=Europe/Berlin:20251126T170000
DTEND;TZID=Europe/Berlin:20251126T190000
DTSTAMP:20260422T195216
CREATED:20251113T113342Z
LAST-MODIFIED:20260415T094501Z
UID:10005427-1764176400-1764183600@jugendarbeit-bamberg.de
SUMMARY:Schräg vorwärts
DESCRIPTION:Du möchtest gerne Leute treffen? Du möchtest neues ausprobieren? Du hast noch nicht das richtige Hobby gefunden? \nDie Aktivgruppe des SkF e.V. probiert jede Woche verschiedene Dinge aus- mal sportlich\, mal kreativ\, mal gemütlich.\nDu brauchst keine Vorkenntnisse\, du musst nicht der super Smalltalker sein\, du kannst herausfinden was dir Spaß macht.
URL:https://jugendarbeit-bamberg.de/termine/__trashed-8/2025-11-26/
LOCATION:BENZE\, Coburger Str. 45B\, Bamberg\, 96052
CATEGORIES:Begegnung,Beteiligung,ja:ba ist bunt
ATTACH;FMTTYPE=image/png:https://jugendarbeit-bamberg.de/wp-content/uploads/2024/03/Design-ohne-Titel10.png
ORGANIZER;CN="Sozialdienst Katholischer Frauen e.V.":MAILTO:info@skf-bamberg.de
END:VEVENT
BEGIN:VEVENT
DTSTART;TZID=Europe/Berlin:20251126T163000
DTEND;TZID=Europe/Berlin:20251126T190000
DTSTAMP:20260422T195216
CREATED:20251030T102030Z
LAST-MODIFIED:20251114T091633Z
UID:10004589-1764174600-1764183600@jugendarbeit-bamberg.de
SUMMARY:Workshop: Fake\, Real\, KI
DESCRIPTION:Am 13.11. und 26.11 könnt ihr mit Hilfe einer KI-Software kreativ werden. Zusammen werden Bilder generiert\, darüber gesprochen und dann gedruckt.\n\n\nDurchgeführt wird der Kurs von Hanna Christa im Rahmen eines Forschungsprojektes der FAU. \nAlle Alter ab 12 Jahren sind willkommen.\nBitte anmelden!  (DM @ benzebamberg oder Mail an benze.bamberg@iso-ev.de)
URL:https://jugendarbeit-bamberg.de/termine/workshop-fake-real-ki/2025-11-26/
LOCATION:BENZE\, Coburger Str. 45B\, Bamberg\, 96052
CATEGORIES:Kunst,Workshop
ATTACH;FMTTYPE=image/png:https://jugendarbeit-bamberg.de/wp-content/uploads/2025/10/Screenshot-2025-10-30-at-11-13-54-Instagram.png
END:VEVENT
BEGIN:VEVENT
DTSTART;TZID=Europe/Berlin:20251126T160000
DTEND;TZID=Europe/Berlin:20251126T190000
DTSTAMP:20260422T195216
CREATED:20251113T113322Z
LAST-MODIFIED:20260410T135049Z
UID:10004910-1764172800-1764183600@jugendarbeit-bamberg.de
SUMMARY:Textildruck & Risodruck
DESCRIPTION:Jeden Mittwoch zeigen euch Rahel und Luz in der Kreativwerkstatt wie ihr Kleidung mit eigenen Motiven bedrucken oder Poster mit einem Risodrucker erstellen könnt. \nEinfach zwischen 16 und 19 Uhr vorbeikommen! \nBitte beachte\, dass sich unsere Workshops vorrangig an unsere Zielgruppe (ca. 12 bis 27- jährige) richten. \n 
URL:https://jugendarbeit-bamberg.de/termine/textildruck-risodruck-2/2025-11-26/
LOCATION:BENZE\, Coburger Str. 45B\, Bamberg\, 96052
CATEGORIES:Begegnung,Kunst,Workshop
ATTACH;FMTTYPE=image/png:https://jugendarbeit-bamberg.de/wp-content/uploads/2025/11/Vorlagen_Workshops_Events_Raeume6.png
ORGANIZER;CN="BENZE":MAILTO:juz.bamberg@iso-ev.de
END:VEVENT
BEGIN:VEVENT
DTSTART;TZID=Europe/Berlin:20251122T150000
DTEND;TZID=Europe/Berlin:20251122T170000
DTSTAMP:20260422T195216
CREATED:20251030T123428Z
LAST-MODIFIED:20251114T094744Z
UID:10004454-1763823600-1763830800@jugendarbeit-bamberg.de
SUMMARY:Selbsthilfegruppe von und für Jugendliche
DESCRIPTION:🌿 Selbsthilfegruppe für Jugendliche – Jetzt alle 2 Wochen! 🌿 \nManchmal ist einfach alles zu viel. Zweifel\, Ängste\, Druck\, Gedankenkarussell – und das Gefühl\, damit allein zu sein.Doch das musst du nicht 💚 \nDie Selbsthilfegruppe von und für Jugendliche bietet dir einen Schutzraum\, in dem du gehört und verstanden wirst.Ganz ohne Bewertung\, ganz ohne Zwang – einfach ein gemütliches Umfeld\, in dem du sein darfst\, wie du bist. \n🗓️ Treffen: alle 2 Wochen📍 Ort: BENZE Bamberg💬 Für wen: Alle jungen Menschen\, die sich austauschen\, verstanden fühlen oder einfach mal reden möchten. \nBei Fragen oder Interesse:📧 selbsthilfegruppe-bamberg@outlook.de\n📱 oder per DM auf Instagram: @selbsthilfegruppe_juz_ba
URL:https://jugendarbeit-bamberg.de/termine/selbsthilfegruppe-fuer-jugendliche/2025-11-22/
LOCATION:BENZE\, Coburger Str. 45B\, Bamberg\, 96052
CATEGORIES:Begegnung,ja:ba ist bunt
ATTACH;FMTTYPE=image/png:https://jugendarbeit-bamberg.de/wp-content/uploads/2025/10/Vorlagen_Workshops_Events_Raeume-1.png
END:VEVENT
BEGIN:VEVENT
DTSTART;TZID=Europe/Berlin:20251121T160000
DTEND;TZID=Europe/Berlin:20251121T190000
DTSTAMP:20260422T195216
CREATED:20251030T101305Z
LAST-MODIFIED:20251114T090848Z
UID:10004446-1763740800-1763751600@jugendarbeit-bamberg.de
SUMMARY:Workshop: Breakdance
DESCRIPTION:Am 14.11 und 21.11 kommt @bboy__moh um euch Breakdance in unserem Tanzraum beizubringen. \nIhr braucht keine Vorkenntnisse.\nBitte schreibt uns eine DM auf Insta oder eine Mail an: benze.bamberg@iso-ev.de \nDer Kurs findet in Kooperation mit @carithek.bamberg statt.
URL:https://jugendarbeit-bamberg.de/termine/workshop-breakdance/2025-11-21/
LOCATION:BENZE\, Coburger Str. 45B\, Bamberg\, 96052
CATEGORIES:Begegnung,ja:ba ist bunt,Sport,Workshop
ATTACH;FMTTYPE=image/png:https://jugendarbeit-bamberg.de/wp-content/uploads/2025/10/Screenshot-2025-10-30-at-11-07-53-Instagram.png
ORGANIZER;CN="BENZE":MAILTO:juz.bamberg@iso-ev.de
END:VEVENT
BEGIN:VEVENT
DTSTART;TZID=Europe/Berlin:20251120T160000
DTEND;TZID=Europe/Berlin:20251120T190000
DTSTAMP:20260422T195216
CREATED:20251113T113400Z
LAST-MODIFIED:20260226T113508Z
UID:10004590-1763654400-1763665200@jugendarbeit-bamberg.de
SUMMARY:Töpfern
DESCRIPTION:Jeden Donnerstag könnt ihr in der Kreativwerkstatt mit unserer Johanna Töpfern ausprobieren. \nAlles auf Spendenbasis. Einfach zwischen 16 und 19 Uhr vorbeischauen. \nBitte beachte\, dass sich unsere Workshops vorrangig an unsere Zielgruppe (ca 12 bis 27-jährige) richten.
URL:https://jugendarbeit-bamberg.de/termine/keramik-naehen-fotolabor-2/2025-11-20/
LOCATION:BENZE\, Coburger Str. 45B\, Bamberg\, 96052
CATEGORIES:Begegnung,Kunst,Workshop
ATTACH;FMTTYPE=image/png:https://jugendarbeit-bamberg.de/wp-content/uploads/2025/11/11.png
ORGANIZER;CN="BENZE":MAILTO:juz.bamberg@iso-ev.de
END:VEVENT
BEGIN:VEVENT
DTSTART;TZID=Europe/Berlin:20251119T190000
DTEND;TZID=Europe/Berlin:20251119T210000
DTSTAMP:20260422T195216
CREATED:20251031T115156Z
LAST-MODIFIED:20251114T090805Z
UID:10004455-1763578800-1763586000@jugendarbeit-bamberg.de
SUMMARY:Improtheater: Pipperlapupp
DESCRIPTION:Impro-Time in der BENZE! \nAm 19. November um 19 Uhr heißt es wieder: Bühne frei für Pipperlapupp – unsere wunderbare Improtheater-Gruppe\, die seit Jahren regelmäßig bei uns probt und nun endlich (wieder) auf unserer Bühne steht! 💥 \nFreu dich auf spontane Geschichten\, wilde Wendungen und jede Menge Lacher – alles live\, ungeplant und garantiert einmalig. Keine Show gleicht der anderen\, denn hier wird Impro in seiner schönsten Form gefeiert: mit Witz\, Kreativität und ganz viel Spielfreude! 🤩 \n📅 Wann: Mittwoch\, den 19.11. um 19 Uhr\n🎟️ Eintritt: frei / Spenden willkommen \nKommt vorbei\, bringt eure Freund*innen mit und erlebt\, wie aus einem Wortvorschlag ein ganzes Theaterstück entsteht! \n👉 Mehr über die Gruppe findet ihr auf Instagram: @pipperlapupp
URL:https://jugendarbeit-bamberg.de/termine/improtheater-pipperlapupp/
LOCATION:BENZE\, Coburger Str. 45B\, Bamberg\, 96052
CATEGORIES:Begegnung,Comedy,Theater
ATTACH;FMTTYPE=image/png:https://jugendarbeit-bamberg.de/wp-content/uploads/2025/10/Vorlagen_Workshops_Events_Raeume1.png
END:VEVENT
BEGIN:VEVENT
DTSTART;TZID=Europe/Berlin:20251119T170000
DTEND;TZID=Europe/Berlin:20251119T190000
DTSTAMP:20260422T195216
CREATED:20251113T113342Z
LAST-MODIFIED:20260415T094501Z
UID:10005426-1763571600-1763578800@jugendarbeit-bamberg.de
SUMMARY:Schräg vorwärts
DESCRIPTION:Du möchtest gerne Leute treffen? Du möchtest neues ausprobieren? Du hast noch nicht das richtige Hobby gefunden? \nDie Aktivgruppe des SkF e.V. probiert jede Woche verschiedene Dinge aus- mal sportlich\, mal kreativ\, mal gemütlich.\nDu brauchst keine Vorkenntnisse\, du musst nicht der super Smalltalker sein\, du kannst herausfinden was dir Spaß macht.
URL:https://jugendarbeit-bamberg.de/termine/__trashed-8/2025-11-19/
LOCATION:BENZE\, Coburger Str. 45B\, Bamberg\, 96052
CATEGORIES:Begegnung,Beteiligung,ja:ba ist bunt
ATTACH;FMTTYPE=image/png:https://jugendarbeit-bamberg.de/wp-content/uploads/2024/03/Design-ohne-Titel10.png
ORGANIZER;CN="Sozialdienst Katholischer Frauen e.V.":MAILTO:info@skf-bamberg.de
END:VEVENT
BEGIN:VEVENT
DTSTART;TZID=Europe/Berlin:20251119T160000
DTEND;TZID=Europe/Berlin:20251119T190000
DTSTAMP:20260422T195216
CREATED:20251113T113322Z
LAST-MODIFIED:20260410T135049Z
UID:10004909-1763568000-1763578800@jugendarbeit-bamberg.de
SUMMARY:Textildruck & Risodruck
DESCRIPTION:Jeden Mittwoch zeigen euch Rahel und Luz in der Kreativwerkstatt wie ihr Kleidung mit eigenen Motiven bedrucken oder Poster mit einem Risodrucker erstellen könnt. \nEinfach zwischen 16 und 19 Uhr vorbeikommen! \nBitte beachte\, dass sich unsere Workshops vorrangig an unsere Zielgruppe (ca. 12 bis 27- jährige) richten. \n 
URL:https://jugendarbeit-bamberg.de/termine/textildruck-risodruck-2/2025-11-19/
LOCATION:BENZE\, Coburger Str. 45B\, Bamberg\, 96052
CATEGORIES:Begegnung,Kunst,Workshop
ATTACH;FMTTYPE=image/png:https://jugendarbeit-bamberg.de/wp-content/uploads/2025/11/Vorlagen_Workshops_Events_Raeume6.png
ORGANIZER;CN="BENZE":MAILTO:juz.bamberg@iso-ev.de
END:VEVENT
BEGIN:VEVENT
DTSTART;TZID=Europe/Berlin:20251115T150000
DTEND;TZID=Europe/Berlin:20251115T180000
DTSTAMP:20260422T195216
CREATED:20251030T100737Z
LAST-MODIFIED:20251114T090839Z
UID:10004444-1763218800-1763229600@jugendarbeit-bamberg.de
SUMMARY:Rollschuhdisco in der BENZE
DESCRIPTION:Wir machen wieder zusammen mit @carithek.bamberg eine Rollschuhdisco für euch! \nWir haben auch ein paar Inline Skates\, Rollschuhe und Knie-/Handschoner zum Ausleihen da. Bringt aber auch gerne eure eigenen Skates und Fahrradhelme mit. \nAußerdem wird’s auch wieder eine Bubbleteabar geben!\nUnd eine Dj-Station wo ihr eure Liedwünsche abgeben könnt 🙂 \nAdresse:\nJugendkulturzentrum BENZE\nCoburgerstrasse 45b\, 96052 Bamberg
URL:https://jugendarbeit-bamberg.de/termine/rollschuhdisco-in-der-benze/
LOCATION:BENZE\, Coburger Str. 45B\, Bamberg\, 96052
CATEGORIES:Ausflüge,Begegnung,Beteiligung,ja:ba ist bunt,Sport
ATTACH;FMTTYPE=image/png:https://jugendarbeit-bamberg.de/wp-content/uploads/2025/10/Screenshot-2025-10-30-at-11-04-02-Instagram.png
ORGANIZER;CN="BENZE":MAILTO:juz.bamberg@iso-ev.de
END:VEVENT
BEGIN:VEVENT
DTSTART;TZID=Europe/Berlin:20251114T160000
DTEND;TZID=Europe/Berlin:20251114T190000
DTSTAMP:20260422T195216
CREATED:20251030T101305Z
LAST-MODIFIED:20251114T090848Z
UID:10004445-1763136000-1763146800@jugendarbeit-bamberg.de
SUMMARY:Workshop: Breakdance
DESCRIPTION:Am 14.11 und 21.11 kommt @bboy__moh um euch Breakdance in unserem Tanzraum beizubringen. \nIhr braucht keine Vorkenntnisse.\nBitte schreibt uns eine DM auf Insta oder eine Mail an: benze.bamberg@iso-ev.de \nDer Kurs findet in Kooperation mit @carithek.bamberg statt.
URL:https://jugendarbeit-bamberg.de/termine/workshop-breakdance/2025-11-14/
LOCATION:BENZE\, Coburger Str. 45B\, Bamberg\, 96052
CATEGORIES:Begegnung,ja:ba ist bunt,Sport,Workshop
ATTACH;FMTTYPE=image/png:https://jugendarbeit-bamberg.de/wp-content/uploads/2025/10/Screenshot-2025-10-30-at-11-07-53-Instagram.png
ORGANIZER;CN="BENZE":MAILTO:juz.bamberg@iso-ev.de
END:VEVENT
BEGIN:VEVENT
DTSTART;TZID=Europe/Berlin:20251105T163000
DTEND;TZID=Europe/Berlin:20251105T190000
DTSTAMP:20260422T195216
CREATED:20251030T102030Z
LAST-MODIFIED:20251114T091633Z
UID:10004447-1762360200-1762369200@jugendarbeit-bamberg.de
SUMMARY:Workshop: Fake\, Real\, KI
DESCRIPTION:Am 13.11. und 26.11 könnt ihr mit Hilfe einer KI-Software kreativ werden. Zusammen werden Bilder generiert\, darüber gesprochen und dann gedruckt.\n\n\nDurchgeführt wird der Kurs von Hanna Christa im Rahmen eines Forschungsprojektes der FAU. \nAlle Alter ab 12 Jahren sind willkommen.\nBitte anmelden!  (DM @ benzebamberg oder Mail an benze.bamberg@iso-ev.de)
URL:https://jugendarbeit-bamberg.de/termine/workshop-fake-real-ki/2025-11-05/
LOCATION:BENZE\, Coburger Str. 45B\, Bamberg\, 96052
CATEGORIES:Kunst,Workshop
ATTACH;FMTTYPE=image/png:https://jugendarbeit-bamberg.de/wp-content/uploads/2025/10/Screenshot-2025-10-30-at-11-13-54-Instagram.png
END:VEVENT
END:VCALENDAR